BEGIN:VCALENDAR
VERSION:2.0
PRODID:-//BATTERY PARK CITY AUTHORITY - ECPv6.15.17.1//NONSGML v1.0//EN
CALSCALE:GREGORIAN
METHOD:PUBLISH
X-WR-CALNAME:BATTERY PARK CITY AUTHORITY
X-ORIGINAL-URL:https://bpca.ny.gov
X-WR-CALDESC:Events for BATTERY PARK CITY AUTHORITY
REFRESH-INTERVAL;VALUE=DURATION:PT1H
X-Robots-Tag:noindex
X-PUBLISHED-TTL:PT1H
BEGIN:VTIMEZONE
TZID:America/New_York
BEGIN:DAYLIGHT
TZOFFSETFROM:-0500
TZOFFSETTO:-0400
TZNAME:EDT
DTSTART:20180311T070000
END:DAYLIGHT
BEGIN:STANDARD
TZOFFSETFROM:-0400
TZOFFSETTO:-0500
TZNAME:EST
DTSTART:20181104T060000
END:STANDARD
BEGIN:DAYLIGHT
TZOFFSETFROM:-0500
TZOFFSETTO:-0400
TZNAME:EDT
DTSTART:20190310T070000
END:DAYLIGHT
BEGIN:STANDARD
TZOFFSETFROM:-0400
TZOFFSETTO:-0500
TZNAME:EST
DTSTART:20191103T060000
END:STANDARD
BEGIN:DAYLIGHT
TZOFFSETFROM:-0500
TZOFFSETTO:-0400
TZNAME:EDT
DTSTART:20200308T070000
END:DAYLIGHT
BEGIN:STANDARD
TZOFFSETFROM:-0400
TZOFFSETTO:-0500
TZNAME:EST
DTSTART:20201101T060000
END:STANDARD
END:VTIMEZONE
BEGIN:VEVENT
DTSTART;TZID=America/New_York:20190322T140000
DTEND;TZID=America/New_York:20190322T160000
DTSTAMP:20260423T074430
CREATED:20181217T174431Z
LAST-MODIFIED:20181217T174431Z
UID:10001858-1553263200-1553270400@bpca.ny.gov
SUMMARY:2019 ANNUAL ART EXHIBITION
DESCRIPTION:OPENING RECEPTION\n1–3PM\, 75 BATTERY PLACE \nART ON VIEW\nWEEKDAYS\, JAN 28–MAR 30\, 2–4PM\nView works by participants of all ages from Battery Park City Authority art programs. All are welcome at the Opening Reception and Art on View.
URL:https://bpca.ny.gov/event/2019-annual-art-exhibition/2019-03-22/
LOCATION:BPC Parks Headquarters\, 75 Battery Place
CATEGORIES:Art & Culture
ATTACH;FMTTYPE=image/jpeg:https://media.bpca.ny.gov/uploads/2018/12/Ursaula-Glogowska-e1545068629463.jpg
END:VEVENT
BEGIN:VEVENT
DTSTART;TZID=America/New_York:20190321T140000
DTEND;TZID=America/New_York:20190321T160000
DTSTAMP:20260423T074430
CREATED:20181217T174431Z
LAST-MODIFIED:20181217T174431Z
UID:10001857-1553176800-1553184000@bpca.ny.gov
SUMMARY:2019 ANNUAL ART EXHIBITION
DESCRIPTION:OPENING RECEPTION\n1–3PM\, 75 BATTERY PLACE \nART ON VIEW\nWEEKDAYS\, JAN 28–MAR 30\, 2–4PM\nView works by participants of all ages from Battery Park City Authority art programs. All are welcome at the Opening Reception and Art on View.
URL:https://bpca.ny.gov/event/2019-annual-art-exhibition/2019-03-21/
LOCATION:BPC Parks Headquarters\, 75 Battery Place
CATEGORIES:Art & Culture
ATTACH;FMTTYPE=image/jpeg:https://media.bpca.ny.gov/uploads/2018/12/Ursaula-Glogowska-e1545068629463.jpg
END:VEVENT
BEGIN:VEVENT
DTSTART;TZID=America/New_York:20190320T140000
DTEND;TZID=America/New_York:20190320T160000
DTSTAMP:20260423T074430
CREATED:20181217T174431Z
LAST-MODIFIED:20181217T174431Z
UID:10001856-1553090400-1553097600@bpca.ny.gov
SUMMARY:2019 ANNUAL ART EXHIBITION
DESCRIPTION:OPENING RECEPTION\n1–3PM\, 75 BATTERY PLACE \nART ON VIEW\nWEEKDAYS\, JAN 28–MAR 30\, 2–4PM\nView works by participants of all ages from Battery Park City Authority art programs. All are welcome at the Opening Reception and Art on View.
URL:https://bpca.ny.gov/event/2019-annual-art-exhibition/2019-03-20/
LOCATION:BPC Parks Headquarters\, 75 Battery Place
CATEGORIES:Art & Culture
ATTACH;FMTTYPE=image/jpeg:https://media.bpca.ny.gov/uploads/2018/12/Ursaula-Glogowska-e1545068629463.jpg
END:VEVENT
BEGIN:VEVENT
DTSTART;TZID=America/New_York:20190319T140000
DTEND;TZID=America/New_York:20190319T160000
DTSTAMP:20260423T074430
CREATED:20181217T174431Z
LAST-MODIFIED:20181217T174431Z
UID:10001855-1553004000-1553011200@bpca.ny.gov
SUMMARY:2019 ANNUAL ART EXHIBITION
DESCRIPTION:OPENING RECEPTION\n1–3PM\, 75 BATTERY PLACE \nART ON VIEW\nWEEKDAYS\, JAN 28–MAR 30\, 2–4PM\nView works by participants of all ages from Battery Park City Authority art programs. All are welcome at the Opening Reception and Art on View.
URL:https://bpca.ny.gov/event/2019-annual-art-exhibition/2019-03-19/
LOCATION:BPC Parks Headquarters\, 75 Battery Place
CATEGORIES:Art & Culture
ATTACH;FMTTYPE=image/jpeg:https://media.bpca.ny.gov/uploads/2018/12/Ursaula-Glogowska-e1545068629463.jpg
END:VEVENT
BEGIN:VEVENT
DTSTART;TZID=America/New_York:20190318T140000
DTEND;TZID=America/New_York:20190318T160000
DTSTAMP:20260423T074430
CREATED:20181217T174431Z
LAST-MODIFIED:20181217T174431Z
UID:10001854-1552917600-1552924800@bpca.ny.gov
SUMMARY:2019 ANNUAL ART EXHIBITION
DESCRIPTION:OPENING RECEPTION\n1–3PM\, 75 BATTERY PLACE \nART ON VIEW\nWEEKDAYS\, JAN 28–MAR 30\, 2–4PM\nView works by participants of all ages from Battery Park City Authority art programs. All are welcome at the Opening Reception and Art on View.
URL:https://bpca.ny.gov/event/2019-annual-art-exhibition/2019-03-18/
LOCATION:BPC Parks Headquarters\, 75 Battery Place
CATEGORIES:Art & Culture
ATTACH;FMTTYPE=image/jpeg:https://media.bpca.ny.gov/uploads/2018/12/Ursaula-Glogowska-e1545068629463.jpg
END:VEVENT
BEGIN:VEVENT
DTSTART;TZID=America/New_York:20190315T140000
DTEND;TZID=America/New_York:20190315T160000
DTSTAMP:20260423T074430
CREATED:20181217T174431Z
LAST-MODIFIED:20181217T174431Z
UID:10001853-1552658400-1552665600@bpca.ny.gov
SUMMARY:2019 ANNUAL ART EXHIBITION
DESCRIPTION:OPENING RECEPTION\n1–3PM\, 75 BATTERY PLACE \nART ON VIEW\nWEEKDAYS\, JAN 28–MAR 30\, 2–4PM\nView works by participants of all ages from Battery Park City Authority art programs. All are welcome at the Opening Reception and Art on View.
URL:https://bpca.ny.gov/event/2019-annual-art-exhibition/2019-03-15/
LOCATION:BPC Parks Headquarters\, 75 Battery Place
CATEGORIES:Art & Culture
ATTACH;FMTTYPE=image/jpeg:https://media.bpca.ny.gov/uploads/2018/12/Ursaula-Glogowska-e1545068629463.jpg
END:VEVENT
BEGIN:VEVENT
DTSTART;TZID=America/New_York:20190314T190000
DTEND;TZID=America/New_York:20190314T190000
DTSTAMP:20260423T074430
CREATED:20181217T194719Z
LAST-MODIFIED:20181217T194719Z
UID:10001870-1552590000-1552590000@bpca.ny.gov
SUMMARY:THE RESCUE-A LIVE FILM-CONCERTO
DESCRIPTION:Join us for the U.S. premiere of The Rescue-A Live Film-Concerto and discover the remarkable story of Colonel José Arturo Castellanos\, as told by his grandsons. In 1942 Colonel Castellanos\, the Salvadoran Consul General led the movement to save European Jews during the Holocaust by creating and distributing more than 13\,000 Salvadoran citizenship papers. Explore his story in a film accompanied by a live Latin chamber orchestra and followed by a conversation with the filmmakers\, Alvaro and Boris Castellanos. \nFor ticket information contact: www.mjhnyc.org. Fee: $10\, $5 Museum Members & BPC Residents \nThis program is made possible in part through a partnership with Battery Park City Authority and The Museum of Jewish Heritage – A Living Memorial to the Holocaust.
URL:https://bpca.ny.gov/event/the-rescue-a-live-film-concerto/
LOCATION:BPC Parks Headquarters\, 75 Battery Place
CATEGORIES:Music & Dance,Special Event
ATTACH;FMTTYPE=image/jpeg:https://media.bpca.ny.gov/uploads/2018/12/The-Rescue-Promo-Image-credit-Alvaro-and-Boris-Castellanos-e1545076030311.jpg
END:VEVENT
BEGIN:VEVENT
DTSTART;TZID=America/New_York:20190314T140000
DTEND;TZID=America/New_York:20190314T160000
DTSTAMP:20260423T074430
CREATED:20181217T174431Z
LAST-MODIFIED:20181217T174431Z
UID:10001852-1552572000-1552579200@bpca.ny.gov
SUMMARY:2019 ANNUAL ART EXHIBITION
DESCRIPTION:OPENING RECEPTION\n1–3PM\, 75 BATTERY PLACE \nART ON VIEW\nWEEKDAYS\, JAN 28–MAR 30\, 2–4PM\nView works by participants of all ages from Battery Park City Authority art programs. All are welcome at the Opening Reception and Art on View.
URL:https://bpca.ny.gov/event/2019-annual-art-exhibition/2019-03-14/
LOCATION:BPC Parks Headquarters\, 75 Battery Place
CATEGORIES:Art & Culture
ATTACH;FMTTYPE=image/jpeg:https://media.bpca.ny.gov/uploads/2018/12/Ursaula-Glogowska-e1545068629463.jpg
END:VEVENT
BEGIN:VEVENT
DTSTART;TZID=America/New_York:20190313T140000
DTEND;TZID=America/New_York:20190313T160000
DTSTAMP:20260423T074430
CREATED:20181217T174431Z
LAST-MODIFIED:20181217T174431Z
UID:10001851-1552485600-1552492800@bpca.ny.gov
SUMMARY:2019 ANNUAL ART EXHIBITION
DESCRIPTION:OPENING RECEPTION\n1–3PM\, 75 BATTERY PLACE \nART ON VIEW\nWEEKDAYS\, JAN 28–MAR 30\, 2–4PM\nView works by participants of all ages from Battery Park City Authority art programs. All are welcome at the Opening Reception and Art on View.
URL:https://bpca.ny.gov/event/2019-annual-art-exhibition/2019-03-13/
LOCATION:BPC Parks Headquarters\, 75 Battery Place
CATEGORIES:Art & Culture
ATTACH;FMTTYPE=image/jpeg:https://media.bpca.ny.gov/uploads/2018/12/Ursaula-Glogowska-e1545068629463.jpg
END:VEVENT
BEGIN:VEVENT
DTSTART;TZID=America/New_York:20190312T140000
DTEND;TZID=America/New_York:20190312T160000
DTSTAMP:20260423T074430
CREATED:20181217T174431Z
LAST-MODIFIED:20181217T174431Z
UID:10001850-1552399200-1552406400@bpca.ny.gov
SUMMARY:2019 ANNUAL ART EXHIBITION
DESCRIPTION:OPENING RECEPTION\n1–3PM\, 75 BATTERY PLACE \nART ON VIEW\nWEEKDAYS\, JAN 28–MAR 30\, 2–4PM\nView works by participants of all ages from Battery Park City Authority art programs. All are welcome at the Opening Reception and Art on View.
URL:https://bpca.ny.gov/event/2019-annual-art-exhibition/2019-03-12/
LOCATION:BPC Parks Headquarters\, 75 Battery Place
CATEGORIES:Art & Culture
ATTACH;FMTTYPE=image/jpeg:https://media.bpca.ny.gov/uploads/2018/12/Ursaula-Glogowska-e1545068629463.jpg
END:VEVENT
BEGIN:VEVENT
DTSTART;TZID=America/New_York:20190311T140000
DTEND;TZID=America/New_York:20190311T160000
DTSTAMP:20260423T074430
CREATED:20181217T174431Z
LAST-MODIFIED:20181217T174431Z
UID:10001849-1552312800-1552320000@bpca.ny.gov
SUMMARY:2019 ANNUAL ART EXHIBITION
DESCRIPTION:OPENING RECEPTION\n1–3PM\, 75 BATTERY PLACE \nART ON VIEW\nWEEKDAYS\, JAN 28–MAR 30\, 2–4PM\nView works by participants of all ages from Battery Park City Authority art programs. All are welcome at the Opening Reception and Art on View.
URL:https://bpca.ny.gov/event/2019-annual-art-exhibition/2019-03-11/
LOCATION:BPC Parks Headquarters\, 75 Battery Place
CATEGORIES:Art & Culture
ATTACH;FMTTYPE=image/jpeg:https://media.bpca.ny.gov/uploads/2018/12/Ursaula-Glogowska-e1545068629463.jpg
END:VEVENT
BEGIN:VEVENT
DTSTART;TZID=America/New_York:20190308T140000
DTEND;TZID=America/New_York:20190308T160000
DTSTAMP:20260423T074430
CREATED:20181217T174431Z
LAST-MODIFIED:20181217T174431Z
UID:10001848-1552053600-1552060800@bpca.ny.gov
SUMMARY:2019 ANNUAL ART EXHIBITION
DESCRIPTION:OPENING RECEPTION\n1–3PM\, 75 BATTERY PLACE \nART ON VIEW\nWEEKDAYS\, JAN 28–MAR 30\, 2–4PM\nView works by participants of all ages from Battery Park City Authority art programs. All are welcome at the Opening Reception and Art on View.
URL:https://bpca.ny.gov/event/2019-annual-art-exhibition/2019-03-08/
LOCATION:BPC Parks Headquarters\, 75 Battery Place
CATEGORIES:Art & Culture
ATTACH;FMTTYPE=image/jpeg:https://media.bpca.ny.gov/uploads/2018/12/Ursaula-Glogowska-e1545068629463.jpg
END:VEVENT
BEGIN:VEVENT
DTSTART;TZID=America/New_York:20190307T140000
DTEND;TZID=America/New_York:20190307T160000
DTSTAMP:20260423T074430
CREATED:20181217T174431Z
LAST-MODIFIED:20181217T174431Z
UID:10001847-1551967200-1551974400@bpca.ny.gov
SUMMARY:2019 ANNUAL ART EXHIBITION
DESCRIPTION:OPENING RECEPTION\n1–3PM\, 75 BATTERY PLACE \nART ON VIEW\nWEEKDAYS\, JAN 28–MAR 30\, 2–4PM\nView works by participants of all ages from Battery Park City Authority art programs. All are welcome at the Opening Reception and Art on View.
URL:https://bpca.ny.gov/event/2019-annual-art-exhibition/2019-03-07/
LOCATION:BPC Parks Headquarters\, 75 Battery Place
CATEGORIES:Art & Culture
ATTACH;FMTTYPE=image/jpeg:https://media.bpca.ny.gov/uploads/2018/12/Ursaula-Glogowska-e1545068629463.jpg
END:VEVENT
BEGIN:VEVENT
DTSTART;TZID=America/New_York:20190306T140000
DTEND;TZID=America/New_York:20190306T160000
DTSTAMP:20260423T074430
CREATED:20181217T174431Z
LAST-MODIFIED:20181217T174431Z
UID:10001846-1551880800-1551888000@bpca.ny.gov
SUMMARY:2019 ANNUAL ART EXHIBITION
DESCRIPTION:OPENING RECEPTION\n1–3PM\, 75 BATTERY PLACE \nART ON VIEW\nWEEKDAYS\, JAN 28–MAR 30\, 2–4PM\nView works by participants of all ages from Battery Park City Authority art programs. All are welcome at the Opening Reception and Art on View.
URL:https://bpca.ny.gov/event/2019-annual-art-exhibition/2019-03-06/
LOCATION:BPC Parks Headquarters\, 75 Battery Place
CATEGORIES:Art & Culture
ATTACH;FMTTYPE=image/jpeg:https://media.bpca.ny.gov/uploads/2018/12/Ursaula-Glogowska-e1545068629463.jpg
END:VEVENT
BEGIN:VEVENT
DTSTART;TZID=America/New_York:20190305T140000
DTEND;TZID=America/New_York:20190305T160000
DTSTAMP:20260423T074430
CREATED:20181217T174431Z
LAST-MODIFIED:20181217T174431Z
UID:10001845-1551794400-1551801600@bpca.ny.gov
SUMMARY:2019 ANNUAL ART EXHIBITION
DESCRIPTION:OPENING RECEPTION\n1–3PM\, 75 BATTERY PLACE \nART ON VIEW\nWEEKDAYS\, JAN 28–MAR 30\, 2–4PM\nView works by participants of all ages from Battery Park City Authority art programs. All are welcome at the Opening Reception and Art on View.
URL:https://bpca.ny.gov/event/2019-annual-art-exhibition/2019-03-05/
LOCATION:BPC Parks Headquarters\, 75 Battery Place
CATEGORIES:Art & Culture
ATTACH;FMTTYPE=image/jpeg:https://media.bpca.ny.gov/uploads/2018/12/Ursaula-Glogowska-e1545068629463.jpg
END:VEVENT
BEGIN:VEVENT
DTSTART;TZID=America/New_York:20190304T140000
DTEND;TZID=America/New_York:20190304T160000
DTSTAMP:20260423T074430
CREATED:20181217T174431Z
LAST-MODIFIED:20181217T174431Z
UID:10001844-1551708000-1551715200@bpca.ny.gov
SUMMARY:2019 ANNUAL ART EXHIBITION
DESCRIPTION:OPENING RECEPTION\n1–3PM\, 75 BATTERY PLACE \nART ON VIEW\nWEEKDAYS\, JAN 28–MAR 30\, 2–4PM\nView works by participants of all ages from Battery Park City Authority art programs. All are welcome at the Opening Reception and Art on View.
URL:https://bpca.ny.gov/event/2019-annual-art-exhibition/2019-03-04/
LOCATION:BPC Parks Headquarters\, 75 Battery Place
CATEGORIES:Art & Culture
ATTACH;FMTTYPE=image/jpeg:https://media.bpca.ny.gov/uploads/2018/12/Ursaula-Glogowska-e1545068629463.jpg
END:VEVENT
BEGIN:VEVENT
DTSTART;TZID=America/New_York:20190301T140000
DTEND;TZID=America/New_York:20190301T160000
DTSTAMP:20260423T074430
CREATED:20181217T174431Z
LAST-MODIFIED:20181217T174431Z
UID:10001843-1551448800-1551456000@bpca.ny.gov
SUMMARY:2019 ANNUAL ART EXHIBITION
DESCRIPTION:OPENING RECEPTION\n1–3PM\, 75 BATTERY PLACE \nART ON VIEW\nWEEKDAYS\, JAN 28–MAR 30\, 2–4PM\nView works by participants of all ages from Battery Park City Authority art programs. All are welcome at the Opening Reception and Art on View.
URL:https://bpca.ny.gov/event/2019-annual-art-exhibition/2019-03-01/
LOCATION:BPC Parks Headquarters\, 75 Battery Place
CATEGORIES:Art & Culture
ATTACH;FMTTYPE=image/jpeg:https://media.bpca.ny.gov/uploads/2018/12/Ursaula-Glogowska-e1545068629463.jpg
END:VEVENT
BEGIN:VEVENT
DTSTART;TZID=America/New_York:20190228T140000
DTEND;TZID=America/New_York:20190228T160000
DTSTAMP:20260423T074430
CREATED:20181217T174431Z
LAST-MODIFIED:20181217T174431Z
UID:10001842-1551362400-1551369600@bpca.ny.gov
SUMMARY:2019 ANNUAL ART EXHIBITION
DESCRIPTION:OPENING RECEPTION\n1–3PM\, 75 BATTERY PLACE \nART ON VIEW\nWEEKDAYS\, JAN 28–MAR 30\, 2–4PM\nView works by participants of all ages from Battery Park City Authority art programs. All are welcome at the Opening Reception and Art on View.
URL:https://bpca.ny.gov/event/2019-annual-art-exhibition/2019-02-28/
LOCATION:BPC Parks Headquarters\, 75 Battery Place
CATEGORIES:Art & Culture
ATTACH;FMTTYPE=image/jpeg:https://media.bpca.ny.gov/uploads/2018/12/Ursaula-Glogowska-e1545068629463.jpg
END:VEVENT
BEGIN:VEVENT
DTSTART;TZID=America/New_York:20190227T140000
DTEND;TZID=America/New_York:20190227T160000
DTSTAMP:20260423T074430
CREATED:20181217T174431Z
LAST-MODIFIED:20181217T174431Z
UID:10001841-1551276000-1551283200@bpca.ny.gov
SUMMARY:2019 ANNUAL ART EXHIBITION
DESCRIPTION:OPENING RECEPTION\n1–3PM\, 75 BATTERY PLACE \nART ON VIEW\nWEEKDAYS\, JAN 28–MAR 30\, 2–4PM\nView works by participants of all ages from Battery Park City Authority art programs. All are welcome at the Opening Reception and Art on View.
URL:https://bpca.ny.gov/event/2019-annual-art-exhibition/2019-02-27/
LOCATION:BPC Parks Headquarters\, 75 Battery Place
CATEGORIES:Art & Culture
ATTACH;FMTTYPE=image/jpeg:https://media.bpca.ny.gov/uploads/2018/12/Ursaula-Glogowska-e1545068629463.jpg
END:VEVENT
BEGIN:VEVENT
DTSTART;TZID=America/New_York:20190226T140000
DTEND;TZID=America/New_York:20190226T160000
DTSTAMP:20260423T074430
CREATED:20181217T174431Z
LAST-MODIFIED:20181217T174431Z
UID:10001840-1551189600-1551196800@bpca.ny.gov
SUMMARY:2019 ANNUAL ART EXHIBITION
DESCRIPTION:OPENING RECEPTION\n1–3PM\, 75 BATTERY PLACE \nART ON VIEW\nWEEKDAYS\, JAN 28–MAR 30\, 2–4PM\nView works by participants of all ages from Battery Park City Authority art programs. All are welcome at the Opening Reception and Art on View.
URL:https://bpca.ny.gov/event/2019-annual-art-exhibition/2019-02-26/
LOCATION:BPC Parks Headquarters\, 75 Battery Place
CATEGORIES:Art & Culture
ATTACH;FMTTYPE=image/jpeg:https://media.bpca.ny.gov/uploads/2018/12/Ursaula-Glogowska-e1545068629463.jpg
END:VEVENT
BEGIN:VEVENT
DTSTART;TZID=America/New_York:20190225T140000
DTEND;TZID=America/New_York:20190225T160000
DTSTAMP:20260423T074430
CREATED:20181217T174431Z
LAST-MODIFIED:20181217T174431Z
UID:10001839-1551103200-1551110400@bpca.ny.gov
SUMMARY:2019 ANNUAL ART EXHIBITION
DESCRIPTION:OPENING RECEPTION\n1–3PM\, 75 BATTERY PLACE \nART ON VIEW\nWEEKDAYS\, JAN 28–MAR 30\, 2–4PM\nView works by participants of all ages from Battery Park City Authority art programs. All are welcome at the Opening Reception and Art on View.
URL:https://bpca.ny.gov/event/2019-annual-art-exhibition/2019-02-25/
LOCATION:BPC Parks Headquarters\, 75 Battery Place
CATEGORIES:Art & Culture
ATTACH;FMTTYPE=image/jpeg:https://media.bpca.ny.gov/uploads/2018/12/Ursaula-Glogowska-e1545068629463.jpg
END:VEVENT
BEGIN:VEVENT
DTSTART;TZID=America/New_York:20190222T140000
DTEND;TZID=America/New_York:20190222T160000
DTSTAMP:20260423T074430
CREATED:20181217T174431Z
LAST-MODIFIED:20181217T174431Z
UID:10001838-1550844000-1550851200@bpca.ny.gov
SUMMARY:2019 ANNUAL ART EXHIBITION
DESCRIPTION:OPENING RECEPTION\n1–3PM\, 75 BATTERY PLACE \nART ON VIEW\nWEEKDAYS\, JAN 28–MAR 30\, 2–4PM\nView works by participants of all ages from Battery Park City Authority art programs. All are welcome at the Opening Reception and Art on View.
URL:https://bpca.ny.gov/event/2019-annual-art-exhibition/2019-02-22/
LOCATION:BPC Parks Headquarters\, 75 Battery Place
CATEGORIES:Art & Culture
ATTACH;FMTTYPE=image/jpeg:https://media.bpca.ny.gov/uploads/2018/12/Ursaula-Glogowska-e1545068629463.jpg
END:VEVENT
BEGIN:VEVENT
DTSTART;TZID=America/New_York:20190221T140000
DTEND;TZID=America/New_York:20190221T160000
DTSTAMP:20260423T074430
CREATED:20181217T174431Z
LAST-MODIFIED:20181217T174431Z
UID:10001837-1550757600-1550764800@bpca.ny.gov
SUMMARY:2019 ANNUAL ART EXHIBITION
DESCRIPTION:OPENING RECEPTION\n1–3PM\, 75 BATTERY PLACE \nART ON VIEW\nWEEKDAYS\, JAN 28–MAR 30\, 2–4PM\nView works by participants of all ages from Battery Park City Authority art programs. All are welcome at the Opening Reception and Art on View.
URL:https://bpca.ny.gov/event/2019-annual-art-exhibition/2019-02-21/
LOCATION:BPC Parks Headquarters\, 75 Battery Place
CATEGORIES:Art & Culture
ATTACH;FMTTYPE=image/jpeg:https://media.bpca.ny.gov/uploads/2018/12/Ursaula-Glogowska-e1545068629463.jpg
END:VEVENT
BEGIN:VEVENT
DTSTART;TZID=America/New_York:20190220T140000
DTEND;TZID=America/New_York:20190220T160000
DTSTAMP:20260423T074430
CREATED:20181217T174431Z
LAST-MODIFIED:20181217T174431Z
UID:10001836-1550671200-1550678400@bpca.ny.gov
SUMMARY:2019 ANNUAL ART EXHIBITION
DESCRIPTION:OPENING RECEPTION\n1–3PM\, 75 BATTERY PLACE \nART ON VIEW\nWEEKDAYS\, JAN 28–MAR 30\, 2–4PM\nView works by participants of all ages from Battery Park City Authority art programs. All are welcome at the Opening Reception and Art on View.
URL:https://bpca.ny.gov/event/2019-annual-art-exhibition/2019-02-20/
LOCATION:BPC Parks Headquarters\, 75 Battery Place
CATEGORIES:Art & Culture
ATTACH;FMTTYPE=image/jpeg:https://media.bpca.ny.gov/uploads/2018/12/Ursaula-Glogowska-e1545068629463.jpg
END:VEVENT
BEGIN:VEVENT
DTSTART;TZID=America/New_York:20190219T140000
DTEND;TZID=America/New_York:20190219T160000
DTSTAMP:20260423T074430
CREATED:20181217T174431Z
LAST-MODIFIED:20181217T174431Z
UID:10001835-1550584800-1550592000@bpca.ny.gov
SUMMARY:2019 ANNUAL ART EXHIBITION
DESCRIPTION:OPENING RECEPTION\n1–3PM\, 75 BATTERY PLACE \nART ON VIEW\nWEEKDAYS\, JAN 28–MAR 30\, 2–4PM\nView works by participants of all ages from Battery Park City Authority art programs. All are welcome at the Opening Reception and Art on View.
URL:https://bpca.ny.gov/event/2019-annual-art-exhibition/2019-02-19/
LOCATION:BPC Parks Headquarters\, 75 Battery Place
CATEGORIES:Art & Culture
ATTACH;FMTTYPE=image/jpeg:https://media.bpca.ny.gov/uploads/2018/12/Ursaula-Glogowska-e1545068629463.jpg
END:VEVENT
BEGIN:VEVENT
DTSTART;TZID=America/New_York:20190218T140000
DTEND;TZID=America/New_York:20190218T160000
DTSTAMP:20260423T074430
CREATED:20181217T174431Z
LAST-MODIFIED:20181217T174431Z
UID:10001834-1550498400-1550505600@bpca.ny.gov
SUMMARY:2019 ANNUAL ART EXHIBITION
DESCRIPTION:OPENING RECEPTION\n1–3PM\, 75 BATTERY PLACE \nART ON VIEW\nWEEKDAYS\, JAN 28–MAR 30\, 2–4PM\nView works by participants of all ages from Battery Park City Authority art programs. All are welcome at the Opening Reception and Art on View.
URL:https://bpca.ny.gov/event/2019-annual-art-exhibition/2019-02-18/
LOCATION:BPC Parks Headquarters\, 75 Battery Place
CATEGORIES:Art & Culture
ATTACH;FMTTYPE=image/jpeg:https://media.bpca.ny.gov/uploads/2018/12/Ursaula-Glogowska-e1545068629463.jpg
END:VEVENT
BEGIN:VEVENT
DTSTART;TZID=America/New_York:20190215T140000
DTEND;TZID=America/New_York:20190215T160000
DTSTAMP:20260423T074430
CREATED:20181217T174431Z
LAST-MODIFIED:20181217T174431Z
UID:10001833-1550239200-1550246400@bpca.ny.gov
SUMMARY:2019 ANNUAL ART EXHIBITION
DESCRIPTION:OPENING RECEPTION\n1–3PM\, 75 BATTERY PLACE \nART ON VIEW\nWEEKDAYS\, JAN 28–MAR 30\, 2–4PM\nView works by participants of all ages from Battery Park City Authority art programs. All are welcome at the Opening Reception and Art on View.
URL:https://bpca.ny.gov/event/2019-annual-art-exhibition/2019-02-15/
LOCATION:BPC Parks Headquarters\, 75 Battery Place
CATEGORIES:Art & Culture
ATTACH;FMTTYPE=image/jpeg:https://media.bpca.ny.gov/uploads/2018/12/Ursaula-Glogowska-e1545068629463.jpg
END:VEVENT
BEGIN:VEVENT
DTSTART;TZID=America/New_York:20190214T140000
DTEND;TZID=America/New_York:20190214T160000
DTSTAMP:20260423T074430
CREATED:20181217T174431Z
LAST-MODIFIED:20181217T174431Z
UID:10001832-1550152800-1550160000@bpca.ny.gov
SUMMARY:2019 ANNUAL ART EXHIBITION
DESCRIPTION:OPENING RECEPTION\n1–3PM\, 75 BATTERY PLACE \nART ON VIEW\nWEEKDAYS\, JAN 28–MAR 30\, 2–4PM\nView works by participants of all ages from Battery Park City Authority art programs. All are welcome at the Opening Reception and Art on View.
URL:https://bpca.ny.gov/event/2019-annual-art-exhibition/2019-02-14/
LOCATION:BPC Parks Headquarters\, 75 Battery Place
CATEGORIES:Art & Culture
ATTACH;FMTTYPE=image/jpeg:https://media.bpca.ny.gov/uploads/2018/12/Ursaula-Glogowska-e1545068629463.jpg
END:VEVENT
BEGIN:VEVENT
DTSTART;TZID=America/New_York:20190213T140000
DTEND;TZID=America/New_York:20190213T160000
DTSTAMP:20260423T074430
CREATED:20181217T174431Z
LAST-MODIFIED:20181217T174431Z
UID:10001831-1550066400-1550073600@bpca.ny.gov
SUMMARY:2019 ANNUAL ART EXHIBITION
DESCRIPTION:OPENING RECEPTION\n1–3PM\, 75 BATTERY PLACE \nART ON VIEW\nWEEKDAYS\, JAN 28–MAR 30\, 2–4PM\nView works by participants of all ages from Battery Park City Authority art programs. All are welcome at the Opening Reception and Art on View.
URL:https://bpca.ny.gov/event/2019-annual-art-exhibition/2019-02-13/
LOCATION:BPC Parks Headquarters\, 75 Battery Place
CATEGORIES:Art & Culture
ATTACH;FMTTYPE=image/jpeg:https://media.bpca.ny.gov/uploads/2018/12/Ursaula-Glogowska-e1545068629463.jpg
END:VEVENT
BEGIN:VEVENT
DTSTART;TZID=America/New_York:20190212T140000
DTEND;TZID=America/New_York:20190212T160000
DTSTAMP:20260423T074430
CREATED:20181217T174431Z
LAST-MODIFIED:20181217T174431Z
UID:10001830-1549980000-1549987200@bpca.ny.gov
SUMMARY:2019 ANNUAL ART EXHIBITION
DESCRIPTION:OPENING RECEPTION\n1–3PM\, 75 BATTERY PLACE \nART ON VIEW\nWEEKDAYS\, JAN 28–MAR 30\, 2–4PM\nView works by participants of all ages from Battery Park City Authority art programs. All are welcome at the Opening Reception and Art on View.
URL:https://bpca.ny.gov/event/2019-annual-art-exhibition/2019-02-12/
LOCATION:BPC Parks Headquarters\, 75 Battery Place
CATEGORIES:Art & Culture
ATTACH;FMTTYPE=image/jpeg:https://media.bpca.ny.gov/uploads/2018/12/Ursaula-Glogowska-e1545068629463.jpg
END:VEVENT
END:VCALENDAR