BEGIN:VCALENDAR
VERSION:2.0
PRODID:-//BATTERY PARK CITY AUTHORITY - ECPv6.15.17.1//NONSGML v1.0//EN
CALSCALE:GREGORIAN
METHOD:PUBLISH
X-WR-CALNAME:BATTERY PARK CITY AUTHORITY
X-ORIGINAL-URL:https://bpca.ny.gov
X-WR-CALDESC:Events for BATTERY PARK CITY AUTHORITY
REFRESH-INTERVAL;VALUE=DURATION:PT1H
X-Robots-Tag:noindex
X-PUBLISHED-TTL:PT1H
BEGIN:VTIMEZONE
TZID:America/New_York
BEGIN:DAYLIGHT
TZOFFSETFROM:-0500
TZOFFSETTO:-0400
TZNAME:EDT
DTSTART:20250309T070000
END:DAYLIGHT
BEGIN:STANDARD
TZOFFSETFROM:-0400
TZOFFSETTO:-0500
TZNAME:EST
DTSTART:20251102T060000
END:STANDARD
BEGIN:DAYLIGHT
TZOFFSETFROM:-0500
TZOFFSETTO:-0400
TZNAME:EDT
DTSTART:20260308T070000
END:DAYLIGHT
BEGIN:STANDARD
TZOFFSETFROM:-0400
TZOFFSETTO:-0500
TZNAME:EST
DTSTART:20261101T060000
END:STANDARD
BEGIN:DAYLIGHT
TZOFFSETFROM:-0500
TZOFFSETTO:-0400
TZNAME:EDT
DTSTART:20270314T070000
END:DAYLIGHT
BEGIN:STANDARD
TZOFFSETFROM:-0400
TZOFFSETTO:-0500
TZNAME:EST
DTSTART:20271107T060000
END:STANDARD
END:VTIMEZONE
BEGIN:VEVENT
DTSTART;TZID=America/New_York:20260531T110000
DTEND;TZID=America/New_York:20260531T190000
DTSTAMP:20260424T114625
CREATED:20260420T193056Z
LAST-MODIFIED:20260421T154926Z
UID:10013649-1780225200-1780254000@bpca.ny.gov
SUMMARY:MISHPACHAH FESTIVAL
DESCRIPTION:Join the Museum of Jewish Heritage to celebrate and explore Jewish genealogy\, heritage\,\nand immigration! Visitors can learn about historical immigration\, investigate their own\nfamily’s genealogy\, and reflect on how we tell our stories. \nPresented by the Museum of Jewish Heritage in partnership with Battery Park City Authority.
URL:https://bpca.ny.gov/event/mishpachah-festival-2/
LOCATION:Museum of Jewish Heritage\, 36 Battery Place\, New York\, NY\, 10280\, United States
CATEGORIES:Adults,Art & Culture,Community,Education,Kids,Kids & Family,Seniors,Special Event
GEO:40.7059245;-74.0182798
X-APPLE-STRUCTURED-LOCATION;VALUE=URI;X-ADDRESS=Museum of Jewish Heritage 36 Battery Place New York NY 10280 United States;X-APPLE-RADIUS=500;X-TITLE=36 Battery Place:geo:-74.0182798,40.7059245
END:VEVENT
END:VCALENDAR