BEGIN:VCALENDAR
VERSION:2.0
PRODID:-//BATTERY PARK CITY AUTHORITY - ECPv6.15.17.1//NONSGML v1.0//EN
CALSCALE:GREGORIAN
METHOD:PUBLISH
X-WR-CALNAME:BATTERY PARK CITY AUTHORITY
X-ORIGINAL-URL:https://bpca.ny.gov
X-WR-CALDESC:Events for BATTERY PARK CITY AUTHORITY
REFRESH-INTERVAL;VALUE=DURATION:PT1H
X-Robots-Tag:noindex
X-PUBLISHED-TTL:PT1H
BEGIN:VTIMEZONE
TZID:America/New_York
BEGIN:DAYLIGHT
TZOFFSETFROM:-0500
TZOFFSETTO:-0400
TZNAME:EDT
DTSTART:20240310T070000
END:DAYLIGHT
BEGIN:STANDARD
TZOFFSETFROM:-0400
TZOFFSETTO:-0500
TZNAME:EST
DTSTART:20241103T060000
END:STANDARD
BEGIN:DAYLIGHT
TZOFFSETFROM:-0500
TZOFFSETTO:-0400
TZNAME:EDT
DTSTART:20250309T070000
END:DAYLIGHT
BEGIN:STANDARD
TZOFFSETFROM:-0400
TZOFFSETTO:-0500
TZNAME:EST
DTSTART:20251102T060000
END:STANDARD
BEGIN:DAYLIGHT
TZOFFSETFROM:-0500
TZOFFSETTO:-0400
TZNAME:EDT
DTSTART:20260308T070000
END:DAYLIGHT
BEGIN:STANDARD
TZOFFSETFROM:-0400
TZOFFSETTO:-0500
TZNAME:EST
DTSTART:20261101T060000
END:STANDARD
BEGIN:DAYLIGHT
TZOFFSETFROM:-0500
TZOFFSETTO:-0400
TZNAME:EDT
DTSTART:20270314T070000
END:DAYLIGHT
BEGIN:STANDARD
TZOFFSETFROM:-0400
TZOFFSETTO:-0500
TZNAME:EST
DTSTART:20271107T060000
END:STANDARD
END:VTIMEZONE
BEGIN:VEVENT
DTSTART;TZID=America/New_York:20260407T150000
DTEND;TZID=America/New_York:20260407T153000
DTSTAMP:20260422T090142
CREATED:20250624T173913Z
LAST-MODIFIED:20260412T014003Z
UID:10013425-1775574000-1775575800@bpca.ny.gov
SUMMARY:CHILDREN’S SPORTS (Ages 3-5)
DESCRIPTION:Develop your coordination and balance\, practice your hitting\, catching\, and game play! Practice the basics of various sports with fun and challenging games and drills for all levels. Closed-toe shoes required.
URL:https://bpca.ny.gov/event/childrens-sports-ages-3-5-4/2026-04-07/
LOCATION:Rockefeller Park\, New York\, NY\, United States
CATEGORIES:entertainment,Exercise,Games & Sports,Kids,Parks & Rec.
ATTACH;FMTTYPE=image/jpeg:https://media.bpca.ny.gov/wp-content/uploads/2024/11/25135207/sports-e1732560741669.jpeg
GEO:40.7581794;-73.9591264
END:VEVENT
BEGIN:VEVENT
DTSTART;TZID=America/New_York:20260331T150000
DTEND;TZID=America/New_York:20260331T153000
DTSTAMP:20260422T090142
CREATED:20250624T173913Z
LAST-MODIFIED:20260412T014003Z
UID:10013424-1774969200-1774971000@bpca.ny.gov
SUMMARY:CHILDREN’S SPORTS (Ages 3-5)
DESCRIPTION:Develop your coordination and balance\, practice your hitting\, catching\, and game play! Practice the basics of various sports with fun and challenging games and drills for all levels. Closed-toe shoes required.
URL:https://bpca.ny.gov/event/childrens-sports-ages-3-5-4/2026-03-31/
LOCATION:Rockefeller Park\, New York\, NY\, United States
CATEGORIES:entertainment,Exercise,Games & Sports,Kids,Parks & Rec.
ATTACH;FMTTYPE=image/jpeg:https://media.bpca.ny.gov/wp-content/uploads/2024/11/25135207/sports-e1732560741669.jpeg
GEO:40.7581794;-73.9591264
END:VEVENT
BEGIN:VEVENT
DTSTART;TZID=America/New_York:20260324T150000
DTEND;TZID=America/New_York:20260324T153000
DTSTAMP:20260422T090142
CREATED:20250624T173913Z
LAST-MODIFIED:20260412T014003Z
UID:10013423-1774364400-1774366200@bpca.ny.gov
SUMMARY:CHILDREN’S SPORTS (Ages 3-5)
DESCRIPTION:Develop your coordination and balance\, practice your hitting\, catching\, and game play! Practice the basics of various sports with fun and challenging games and drills for all levels. Closed-toe shoes required.
URL:https://bpca.ny.gov/event/childrens-sports-ages-3-5-4/2026-03-24/
LOCATION:Rockefeller Park\, New York\, NY\, United States
CATEGORIES:entertainment,Exercise,Games & Sports,Kids,Parks & Rec.
ATTACH;FMTTYPE=image/jpeg:https://media.bpca.ny.gov/wp-content/uploads/2024/11/25135207/sports-e1732560741669.jpeg
GEO:40.7581794;-73.9591264
END:VEVENT
BEGIN:VEVENT
DTSTART;TZID=America/New_York:20260317T150000
DTEND;TZID=America/New_York:20260317T153000
DTSTAMP:20260422T090142
CREATED:20250624T173913Z
LAST-MODIFIED:20260412T014003Z
UID:10013422-1773759600-1773761400@bpca.ny.gov
SUMMARY:CHILDREN’S SPORTS (Ages 3-5)
DESCRIPTION:Develop your coordination and balance\, practice your hitting\, catching\, and game play! Practice the basics of various sports with fun and challenging games and drills for all levels. Closed-toe shoes required.
URL:https://bpca.ny.gov/event/childrens-sports-ages-3-5-4/2026-03-17/
LOCATION:Rockefeller Park\, New York\, NY\, United States
CATEGORIES:entertainment,Exercise,Games & Sports,Kids,Parks & Rec.
ATTACH;FMTTYPE=image/jpeg:https://media.bpca.ny.gov/wp-content/uploads/2024/11/25135207/sports-e1732560741669.jpeg
GEO:40.7581794;-73.9591264
END:VEVENT
BEGIN:VEVENT
DTSTART;TZID=America/New_York:20260310T150000
DTEND;TZID=America/New_York:20260310T153000
DTSTAMP:20260422T090142
CREATED:20250624T173913Z
LAST-MODIFIED:20260412T014003Z
UID:10013421-1773154800-1773156600@bpca.ny.gov
SUMMARY:CHILDREN’S SPORTS (Ages 3-5)
DESCRIPTION:Develop your coordination and balance\, practice your hitting\, catching\, and game play! Practice the basics of various sports with fun and challenging games and drills for all levels. Closed-toe shoes required.
URL:https://bpca.ny.gov/event/childrens-sports-ages-3-5-4/2026-03-10/
LOCATION:Rockefeller Park\, New York\, NY\, United States
CATEGORIES:entertainment,Exercise,Games & Sports,Kids,Parks & Rec.
ATTACH;FMTTYPE=image/jpeg:https://media.bpca.ny.gov/wp-content/uploads/2024/11/25135207/sports-e1732560741669.jpeg
GEO:40.7581794;-73.9591264
END:VEVENT
BEGIN:VEVENT
DTSTART;TZID=America/New_York:20260303T150000
DTEND;TZID=America/New_York:20260303T153000
DTSTAMP:20260422T090142
CREATED:20250624T173913Z
LAST-MODIFIED:20260412T014003Z
UID:10013420-1772550000-1772551800@bpca.ny.gov
SUMMARY:CHILDREN’S SPORTS (Ages 3-5)
DESCRIPTION:Develop your coordination and balance\, practice your hitting\, catching\, and game play! Practice the basics of various sports with fun and challenging games and drills for all levels. Closed-toe shoes required.
URL:https://bpca.ny.gov/event/childrens-sports-ages-3-5-4/2026-03-03/
LOCATION:Rockefeller Park\, New York\, NY\, United States
CATEGORIES:entertainment,Exercise,Games & Sports,Kids,Parks & Rec.
ATTACH;FMTTYPE=image/jpeg:https://media.bpca.ny.gov/wp-content/uploads/2024/11/25135207/sports-e1732560741669.jpeg
GEO:40.7581794;-73.9591264
END:VEVENT
BEGIN:VEVENT
DTSTART;TZID=America/New_York:20260224T150000
DTEND;TZID=America/New_York:20260224T153000
DTSTAMP:20260422T090142
CREATED:20250624T173913Z
LAST-MODIFIED:20260412T014003Z
UID:10013419-1771945200-1771947000@bpca.ny.gov
SUMMARY:CHILDREN’S SPORTS (Ages 3-5)
DESCRIPTION:Develop your coordination and balance\, practice your hitting\, catching\, and game play! Practice the basics of various sports with fun and challenging games and drills for all levels. Closed-toe shoes required.
URL:https://bpca.ny.gov/event/childrens-sports-ages-3-5-4/2026-02-24/
LOCATION:Rockefeller Park\, New York\, NY\, United States
CATEGORIES:entertainment,Exercise,Games & Sports,Kids,Parks & Rec.
ATTACH;FMTTYPE=image/jpeg:https://media.bpca.ny.gov/wp-content/uploads/2024/11/25135207/sports-e1732560741669.jpeg
GEO:40.7581794;-73.9591264
END:VEVENT
BEGIN:VEVENT
DTSTART;TZID=America/New_York:20260217T150000
DTEND;TZID=America/New_York:20260217T153000
DTSTAMP:20260422T090142
CREATED:20250624T173913Z
LAST-MODIFIED:20260412T014003Z
UID:10013418-1771340400-1771342200@bpca.ny.gov
SUMMARY:CHILDREN’S SPORTS (Ages 3-5)
DESCRIPTION:Develop your coordination and balance\, practice your hitting\, catching\, and game play! Practice the basics of various sports with fun and challenging games and drills for all levels. Closed-toe shoes required.
URL:https://bpca.ny.gov/event/childrens-sports-ages-3-5-4/2026-02-17/
LOCATION:Rockefeller Park\, New York\, NY\, United States
CATEGORIES:entertainment,Exercise,Games & Sports,Kids,Parks & Rec.
ATTACH;FMTTYPE=image/jpeg:https://media.bpca.ny.gov/wp-content/uploads/2024/11/25135207/sports-e1732560741669.jpeg
GEO:40.7581794;-73.9591264
END:VEVENT
BEGIN:VEVENT
DTSTART;TZID=America/New_York:20260210T150000
DTEND;TZID=America/New_York:20260210T153000
DTSTAMP:20260422T090142
CREATED:20250624T173913Z
LAST-MODIFIED:20260412T014003Z
UID:10013417-1770735600-1770737400@bpca.ny.gov
SUMMARY:CHILDREN’S SPORTS (Ages 3-5)
DESCRIPTION:Develop your coordination and balance\, practice your hitting\, catching\, and game play! Practice the basics of various sports with fun and challenging games and drills for all levels. Closed-toe shoes required.
URL:https://bpca.ny.gov/event/childrens-sports-ages-3-5-4/2026-02-10/
LOCATION:Rockefeller Park\, New York\, NY\, United States
CATEGORIES:entertainment,Exercise,Games & Sports,Kids,Parks & Rec.
ATTACH;FMTTYPE=image/jpeg:https://media.bpca.ny.gov/wp-content/uploads/2024/11/25135207/sports-e1732560741669.jpeg
GEO:40.7581794;-73.9591264
END:VEVENT
BEGIN:VEVENT
DTSTART;TZID=America/New_York:20260203T150000
DTEND;TZID=America/New_York:20260203T153000
DTSTAMP:20260422T090142
CREATED:20250624T173913Z
LAST-MODIFIED:20260412T014003Z
UID:10013416-1770130800-1770132600@bpca.ny.gov
SUMMARY:CHILDREN’S SPORTS (Ages 3-5)
DESCRIPTION:Develop your coordination and balance\, practice your hitting\, catching\, and game play! Practice the basics of various sports with fun and challenging games and drills for all levels. Closed-toe shoes required.
URL:https://bpca.ny.gov/event/childrens-sports-ages-3-5-4/2026-02-03/
LOCATION:Rockefeller Park\, New York\, NY\, United States
CATEGORIES:entertainment,Exercise,Games & Sports,Kids,Parks & Rec.
ATTACH;FMTTYPE=image/jpeg:https://media.bpca.ny.gov/wp-content/uploads/2024/11/25135207/sports-e1732560741669.jpeg
GEO:40.7581794;-73.9591264
END:VEVENT
BEGIN:VEVENT
DTSTART;TZID=America/New_York:20260127T150000
DTEND;TZID=America/New_York:20260127T153000
DTSTAMP:20260422T090142
CREATED:20250624T173913Z
LAST-MODIFIED:20260412T014003Z
UID:10013415-1769526000-1769527800@bpca.ny.gov
SUMMARY:CHILDREN’S SPORTS (Ages 3-5)
DESCRIPTION:Develop your coordination and balance\, practice your hitting\, catching\, and game play! Practice the basics of various sports with fun and challenging games and drills for all levels. Closed-toe shoes required.
URL:https://bpca.ny.gov/event/childrens-sports-ages-3-5-4/2026-01-27/
LOCATION:Rockefeller Park\, New York\, NY\, United States
CATEGORIES:entertainment,Exercise,Games & Sports,Kids,Parks & Rec.
ATTACH;FMTTYPE=image/jpeg:https://media.bpca.ny.gov/wp-content/uploads/2024/11/25135207/sports-e1732560741669.jpeg
GEO:40.7581794;-73.9591264
END:VEVENT
BEGIN:VEVENT
DTSTART;TZID=America/New_York:20260120T150000
DTEND;TZID=America/New_York:20260120T153000
DTSTAMP:20260422T090142
CREATED:20250624T173913Z
LAST-MODIFIED:20260412T014003Z
UID:10013414-1768921200-1768923000@bpca.ny.gov
SUMMARY:CHILDREN’S SPORTS (Ages 3-5)
DESCRIPTION:Develop your coordination and balance\, practice your hitting\, catching\, and game play! Practice the basics of various sports with fun and challenging games and drills for all levels. Closed-toe shoes required.
URL:https://bpca.ny.gov/event/childrens-sports-ages-3-5-4/2026-01-20/
LOCATION:Rockefeller Park\, New York\, NY\, United States
CATEGORIES:entertainment,Exercise,Games & Sports,Kids,Parks & Rec.
ATTACH;FMTTYPE=image/jpeg:https://media.bpca.ny.gov/wp-content/uploads/2024/11/25135207/sports-e1732560741669.jpeg
GEO:40.7581794;-73.9591264
END:VEVENT
BEGIN:VEVENT
DTSTART;TZID=America/New_York:20260113T150000
DTEND;TZID=America/New_York:20260113T153000
DTSTAMP:20260422T090142
CREATED:20250624T173913Z
LAST-MODIFIED:20260412T014003Z
UID:10013413-1768316400-1768318200@bpca.ny.gov
SUMMARY:CHILDREN’S SPORTS (Ages 3-5)
DESCRIPTION:Develop your coordination and balance\, practice your hitting\, catching\, and game play! Practice the basics of various sports with fun and challenging games and drills for all levels. Closed-toe shoes required.
URL:https://bpca.ny.gov/event/childrens-sports-ages-3-5-4/2026-01-13/
LOCATION:Rockefeller Park\, New York\, NY\, United States
CATEGORIES:entertainment,Exercise,Games & Sports,Kids,Parks & Rec.
ATTACH;FMTTYPE=image/jpeg:https://media.bpca.ny.gov/wp-content/uploads/2024/11/25135207/sports-e1732560741669.jpeg
GEO:40.7581794;-73.9591264
END:VEVENT
BEGIN:VEVENT
DTSTART;TZID=America/New_York:20260106T150000
DTEND;TZID=America/New_York:20260106T153000
DTSTAMP:20260422T090142
CREATED:20250624T173913Z
LAST-MODIFIED:20260412T014003Z
UID:10013412-1767711600-1767713400@bpca.ny.gov
SUMMARY:CHILDREN’S SPORTS (Ages 3-5)
DESCRIPTION:Develop your coordination and balance\, practice your hitting\, catching\, and game play! Practice the basics of various sports with fun and challenging games and drills for all levels. Closed-toe shoes required.
URL:https://bpca.ny.gov/event/childrens-sports-ages-3-5-4/2026-01-06/
LOCATION:Rockefeller Park\, New York\, NY\, United States
CATEGORIES:entertainment,Exercise,Games & Sports,Kids,Parks & Rec.
ATTACH;FMTTYPE=image/jpeg:https://media.bpca.ny.gov/wp-content/uploads/2024/11/25135207/sports-e1732560741669.jpeg
GEO:40.7581794;-73.9591264
END:VEVENT
BEGIN:VEVENT
DTSTART;TZID=America/New_York:20251230T150000
DTEND;TZID=America/New_York:20251230T153000
DTSTAMP:20260422T090142
CREATED:20250624T173913Z
LAST-MODIFIED:20260412T014003Z
UID:10013411-1767106800-1767108600@bpca.ny.gov
SUMMARY:CHILDREN’S SPORTS (Ages 3-5)
DESCRIPTION:Develop your coordination and balance\, practice your hitting\, catching\, and game play! Practice the basics of various sports with fun and challenging games and drills for all levels. Closed-toe shoes required.
URL:https://bpca.ny.gov/event/childrens-sports-ages-3-5-4/2025-12-30/
LOCATION:Rockefeller Park\, New York\, NY\, United States
CATEGORIES:entertainment,Exercise,Games & Sports,Kids,Parks & Rec.
ATTACH;FMTTYPE=image/jpeg:https://media.bpca.ny.gov/wp-content/uploads/2024/11/25135207/sports-e1732560741669.jpeg
GEO:40.7581794;-73.9591264
END:VEVENT
BEGIN:VEVENT
DTSTART;TZID=America/New_York:20251223T150000
DTEND;TZID=America/New_York:20251223T153000
DTSTAMP:20260422T090142
CREATED:20250624T173913Z
LAST-MODIFIED:20260412T014003Z
UID:10013410-1766502000-1766503800@bpca.ny.gov
SUMMARY:CHILDREN’S SPORTS (Ages 3-5)
DESCRIPTION:Develop your coordination and balance\, practice your hitting\, catching\, and game play! Practice the basics of various sports with fun and challenging games and drills for all levels. Closed-toe shoes required.
URL:https://bpca.ny.gov/event/childrens-sports-ages-3-5-4/2025-12-23/
LOCATION:Rockefeller Park\, New York\, NY\, United States
CATEGORIES:entertainment,Exercise,Games & Sports,Kids,Parks & Rec.
ATTACH;FMTTYPE=image/jpeg:https://media.bpca.ny.gov/wp-content/uploads/2024/11/25135207/sports-e1732560741669.jpeg
GEO:40.7581794;-73.9591264
END:VEVENT
BEGIN:VEVENT
DTSTART;TZID=America/New_York:20251216T150000
DTEND;TZID=America/New_York:20251216T153000
DTSTAMP:20260422T090142
CREATED:20250624T173913Z
LAST-MODIFIED:20260412T014003Z
UID:10013409-1765897200-1765899000@bpca.ny.gov
SUMMARY:CHILDREN’S SPORTS (Ages 3-5)
DESCRIPTION:Develop your coordination and balance\, practice your hitting\, catching\, and game play! Practice the basics of various sports with fun and challenging games and drills for all levels. Closed-toe shoes required.
URL:https://bpca.ny.gov/event/childrens-sports-ages-3-5-4/2025-12-16/
LOCATION:Rockefeller Park\, New York\, NY\, United States
CATEGORIES:entertainment,Exercise,Games & Sports,Kids,Parks & Rec.
ATTACH;FMTTYPE=image/jpeg:https://media.bpca.ny.gov/wp-content/uploads/2024/11/25135207/sports-e1732560741669.jpeg
GEO:40.7581794;-73.9591264
END:VEVENT
BEGIN:VEVENT
DTSTART;TZID=America/New_York:20251209T150000
DTEND;TZID=America/New_York:20251209T153000
DTSTAMP:20260422T090142
CREATED:20250624T173913Z
LAST-MODIFIED:20260412T014003Z
UID:10013408-1765292400-1765294200@bpca.ny.gov
SUMMARY:CHILDREN’S SPORTS (Ages 3-5)
DESCRIPTION:Develop your coordination and balance\, practice your hitting\, catching\, and game play! Practice the basics of various sports with fun and challenging games and drills for all levels. Closed-toe shoes required.
URL:https://bpca.ny.gov/event/childrens-sports-ages-3-5-4/2025-12-09/
LOCATION:Rockefeller Park\, New York\, NY\, United States
CATEGORIES:entertainment,Exercise,Games & Sports,Kids,Parks & Rec.
ATTACH;FMTTYPE=image/jpeg:https://media.bpca.ny.gov/wp-content/uploads/2024/11/25135207/sports-e1732560741669.jpeg
GEO:40.7581794;-73.9591264
END:VEVENT
BEGIN:VEVENT
DTSTART;TZID=America/New_York:20251202T150000
DTEND;TZID=America/New_York:20251202T153000
DTSTAMP:20260422T090142
CREATED:20250624T173913Z
LAST-MODIFIED:20260412T014003Z
UID:10013407-1764687600-1764689400@bpca.ny.gov
SUMMARY:CHILDREN’S SPORTS (Ages 3-5)
DESCRIPTION:Develop your coordination and balance\, practice your hitting\, catching\, and game play! Practice the basics of various sports with fun and challenging games and drills for all levels. Closed-toe shoes required.
URL:https://bpca.ny.gov/event/childrens-sports-ages-3-5-4/2025-12-02/
LOCATION:Rockefeller Park\, New York\, NY\, United States
CATEGORIES:entertainment,Exercise,Games & Sports,Kids,Parks & Rec.
ATTACH;FMTTYPE=image/jpeg:https://media.bpca.ny.gov/wp-content/uploads/2024/11/25135207/sports-e1732560741669.jpeg
GEO:40.7581794;-73.9591264
END:VEVENT
BEGIN:VEVENT
DTSTART;TZID=America/New_York:20251125T150000
DTEND;TZID=America/New_York:20251125T153000
DTSTAMP:20260422T090142
CREATED:20250624T173913Z
LAST-MODIFIED:20260412T014003Z
UID:10013406-1764082800-1764084600@bpca.ny.gov
SUMMARY:CHILDREN’S SPORTS (Ages 3-5)
DESCRIPTION:Develop your coordination and balance\, practice your hitting\, catching\, and game play! Practice the basics of various sports with fun and challenging games and drills for all levels. Closed-toe shoes required.
URL:https://bpca.ny.gov/event/childrens-sports-ages-3-5-4/2025-11-25/
LOCATION:Rockefeller Park\, New York\, NY\, United States
CATEGORIES:entertainment,Exercise,Games & Sports,Kids,Parks & Rec.
ATTACH;FMTTYPE=image/jpeg:https://media.bpca.ny.gov/wp-content/uploads/2024/11/25135207/sports-e1732560741669.jpeg
GEO:40.7581794;-73.9591264
END:VEVENT
BEGIN:VEVENT
DTSTART;TZID=America/New_York:20251118T150000
DTEND;TZID=America/New_York:20251118T153000
DTSTAMP:20260422T090142
CREATED:20250624T173913Z
LAST-MODIFIED:20260412T014003Z
UID:10013405-1763478000-1763479800@bpca.ny.gov
SUMMARY:CHILDREN’S SPORTS (Ages 3-5)
DESCRIPTION:Develop your coordination and balance\, practice your hitting\, catching\, and game play! Practice the basics of various sports with fun and challenging games and drills for all levels. Closed-toe shoes required.
URL:https://bpca.ny.gov/event/childrens-sports-ages-3-5-4/2025-11-18/
LOCATION:Rockefeller Park\, New York\, NY\, United States
CATEGORIES:entertainment,Exercise,Games & Sports,Kids,Parks & Rec.
ATTACH;FMTTYPE=image/jpeg:https://media.bpca.ny.gov/wp-content/uploads/2024/11/25135207/sports-e1732560741669.jpeg
GEO:40.7581794;-73.9591264
END:VEVENT
BEGIN:VEVENT
DTSTART;TZID=America/New_York:20251111T150000
DTEND;TZID=America/New_York:20251111T153000
DTSTAMP:20260422T090142
CREATED:20250624T173913Z
LAST-MODIFIED:20260412T014003Z
UID:10013404-1762873200-1762875000@bpca.ny.gov
SUMMARY:CHILDREN’S SPORTS (Ages 3-5)
DESCRIPTION:Develop your coordination and balance\, practice your hitting\, catching\, and game play! Practice the basics of various sports with fun and challenging games and drills for all levels. Closed-toe shoes required.
URL:https://bpca.ny.gov/event/childrens-sports-ages-3-5-4/2025-11-11/
LOCATION:Rockefeller Park\, New York\, NY\, United States
CATEGORIES:entertainment,Exercise,Games & Sports,Kids,Parks & Rec.
ATTACH;FMTTYPE=image/jpeg:https://media.bpca.ny.gov/wp-content/uploads/2024/11/25135207/sports-e1732560741669.jpeg
GEO:40.7581794;-73.9591264
END:VEVENT
BEGIN:VEVENT
DTSTART;TZID=America/New_York:20251104T150000
DTEND;TZID=America/New_York:20251104T153000
DTSTAMP:20260422T090142
CREATED:20250624T173913Z
LAST-MODIFIED:20260412T014003Z
UID:10013403-1762268400-1762270200@bpca.ny.gov
SUMMARY:CHILDREN’S SPORTS (Ages 3-5)
DESCRIPTION:Develop your coordination and balance\, practice your hitting\, catching\, and game play! Practice the basics of various sports with fun and challenging games and drills for all levels. Closed-toe shoes required.
URL:https://bpca.ny.gov/event/childrens-sports-ages-3-5-4/2025-11-04/
LOCATION:Rockefeller Park\, New York\, NY\, United States
CATEGORIES:entertainment,Exercise,Games & Sports,Kids,Parks & Rec.
ATTACH;FMTTYPE=image/jpeg:https://media.bpca.ny.gov/wp-content/uploads/2024/11/25135207/sports-e1732560741669.jpeg
GEO:40.7581794;-73.9591264
END:VEVENT
BEGIN:VEVENT
DTSTART;TZID=America/New_York:20251029T150000
DTEND;TZID=America/New_York:20251029T170000
DTSTAMP:20260422T090142
CREATED:20250814T175056Z
LAST-MODIFIED:20251015T161700Z
UID:10011715-1761750000-1761757200@bpca.ny.gov
SUMMARY:Fall Rugby
DESCRIPTION:Get ready to run\, pass\, and score this fall! \nJoin Rugby4All for a FREE 8-Week Fall Rugby Program for kids ages 3-12. \nThe perfect after-school activity for your child to burn off some energy\, make new friends\, and learn the basics of the world’s best sport in a fun\, safe\, and positive environment. The coaches are experts at teaching the game through exciting drills and activities. No experience is necessary! \nThe Details: \n\nWhat: A completely FREE 8-week\, non-contact rugby program.\nWhere: The beautiful lawns of Rockefeller Park.\nWhen: Every Wednesday from September 10th to October 29th\, 2025.\n\nSchedule by Age Group: \n\nAges 3–6: 3:00 PM – 3:45 PM\nAges 7–12: 4:00 PM – 5:00 PM\n\nSpots are limited and they go fast! Click HERE to sign up and secure your child’s spot for 8 weeks of fun. \nHave a question? Reach out to Chris Mattina at chris@rugby4all.com.
URL:https://bpca.ny.gov/event/fall-rugby/2025-10-29/
LOCATION:Rockefeller Park\, New York\, NY\, United States
CATEGORIES:Classes,entertainment,Exercise,Games & Sports,Kids,Parks & Rec.,Pre K
ATTACH;FMTTYPE=image/jpeg:https://media.bpca.ny.gov/wp-content/uploads/2025/08/14133911/Rugby-7-e1755193199901.jpg
GEO:40.7581794;-73.9591264
END:VEVENT
BEGIN:VEVENT
DTSTART;TZID=America/New_York:20251028T154500
DTEND;TZID=America/New_York:20251028T163000
DTSTAMP:20260422T090142
CREATED:20250408T195929Z
LAST-MODIFIED:20250408T200051Z
UID:10011007-1761666300-1761669000@bpca.ny.gov
SUMMARY:CHILDREN’S SPORTS (Ages 6-10)
DESCRIPTION:Develop your coordination and balance\, practice your hitting\, catching\, and game play! Practice the basics of various sports with fun and challenging games with drills for all levels. Closed-toe shoes required.
URL:https://bpca.ny.gov/event/childrens-sports-ages-6-10/2025-10-28/
LOCATION:Rockefeller Park\, New York\, NY\, United States
CATEGORIES:entertainment,Exercise,Games & Sports,Kids,Parks & Rec.
ATTACH;FMTTYPE=image/jpeg:https://media.bpca.ny.gov/wp-content/uploads/2024/11/25135207/sports-e1732560741669.jpeg
GEO:40.7581794;-73.9591264
END:VEVENT
BEGIN:VEVENT
DTSTART;TZID=America/New_York:20251028T150000
DTEND;TZID=America/New_York:20251028T153000
DTSTAMP:20260422T090143
CREATED:20250624T173913Z
LAST-MODIFIED:20260412T014003Z
UID:10013402-1761663600-1761665400@bpca.ny.gov
SUMMARY:CHILDREN’S SPORTS (Ages 3-5)
DESCRIPTION:Develop your coordination and balance\, practice your hitting\, catching\, and game play! Practice the basics of various sports with fun and challenging games and drills for all levels. Closed-toe shoes required.
URL:https://bpca.ny.gov/event/childrens-sports-ages-3-5-4/2025-10-28/
LOCATION:Rockefeller Park\, New York\, NY\, United States
CATEGORIES:entertainment,Exercise,Games & Sports,Kids,Parks & Rec.
ATTACH;FMTTYPE=image/jpeg:https://media.bpca.ny.gov/wp-content/uploads/2024/11/25135207/sports-e1732560741669.jpeg
GEO:40.7581794;-73.9591264
END:VEVENT
BEGIN:VEVENT
DTSTART;TZID=America/New_York:20251028T150000
DTEND;TZID=America/New_York:20251028T153000
DTSTAMP:20260422T090143
CREATED:20250408T195603Z
LAST-MODIFIED:20250408T195802Z
UID:10010956-1761663600-1761665400@bpca.ny.gov
SUMMARY:CHILDREN’S SPORTS (Ages 3-5)
DESCRIPTION:Develop your coordination and balance\, practice your hitting\, catching\, and game play! Practice the basics of various sports with fun and challenging games with drills for all levels. Closed-toe shoes required.
URL:https://bpca.ny.gov/event/childrens-sports-ages-3-5/2025-10-28/
LOCATION:Rockefeller Park\, New York\, NY\, United States
CATEGORIES:entertainment,Exercise,Games & Sports,Kids,Parks & Rec.
ATTACH;FMTTYPE=image/jpeg:https://media.bpca.ny.gov/wp-content/uploads/2024/11/25135207/sports-e1732560741669.jpeg
GEO:40.7581794;-73.9591264
END:VEVENT
BEGIN:VEVENT
DTSTART;TZID=America/New_York:20251022T150000
DTEND;TZID=America/New_York:20251022T170000
DTSTAMP:20260422T090143
CREATED:20250814T175056Z
LAST-MODIFIED:20251015T161700Z
UID:10011714-1761145200-1761152400@bpca.ny.gov
SUMMARY:Fall Rugby
DESCRIPTION:Get ready to run\, pass\, and score this fall! \nJoin Rugby4All for a FREE 8-Week Fall Rugby Program for kids ages 3-12. \nThe perfect after-school activity for your child to burn off some energy\, make new friends\, and learn the basics of the world’s best sport in a fun\, safe\, and positive environment. The coaches are experts at teaching the game through exciting drills and activities. No experience is necessary! \nThe Details: \n\nWhat: A completely FREE 8-week\, non-contact rugby program.\nWhere: The beautiful lawns of Rockefeller Park.\nWhen: Every Wednesday from September 10th to October 29th\, 2025.\n\nSchedule by Age Group: \n\nAges 3–6: 3:00 PM – 3:45 PM\nAges 7–12: 4:00 PM – 5:00 PM\n\nSpots are limited and they go fast! Click HERE to sign up and secure your child’s spot for 8 weeks of fun. \nHave a question? Reach out to Chris Mattina at chris@rugby4all.com.
URL:https://bpca.ny.gov/event/fall-rugby/2025-10-22/
LOCATION:Rockefeller Park\, New York\, NY\, United States
CATEGORIES:Classes,entertainment,Exercise,Games & Sports,Kids,Parks & Rec.,Pre K
ATTACH;FMTTYPE=image/jpeg:https://media.bpca.ny.gov/wp-content/uploads/2025/08/14133911/Rugby-7-e1755193199901.jpg
GEO:40.7581794;-73.9591264
END:VEVENT
BEGIN:VEVENT
DTSTART;TZID=America/New_York:20251021T154500
DTEND;TZID=America/New_York:20251021T163000
DTSTAMP:20260422T090143
CREATED:20250408T195929Z
LAST-MODIFIED:20250408T200051Z
UID:10011006-1761061500-1761064200@bpca.ny.gov
SUMMARY:CHILDREN’S SPORTS (Ages 6-10)
DESCRIPTION:Develop your coordination and balance\, practice your hitting\, catching\, and game play! Practice the basics of various sports with fun and challenging games with drills for all levels. Closed-toe shoes required.
URL:https://bpca.ny.gov/event/childrens-sports-ages-6-10/2025-10-21/
LOCATION:Rockefeller Park\, New York\, NY\, United States
CATEGORIES:entertainment,Exercise,Games & Sports,Kids,Parks & Rec.
ATTACH;FMTTYPE=image/jpeg:https://media.bpca.ny.gov/wp-content/uploads/2024/11/25135207/sports-e1732560741669.jpeg
GEO:40.7581794;-73.9591264
END:VEVENT
BEGIN:VEVENT
DTSTART;TZID=America/New_York:20251021T150000
DTEND;TZID=America/New_York:20251021T153000
DTSTAMP:20260422T090143
CREATED:20250624T173913Z
LAST-MODIFIED:20260412T014003Z
UID:10013401-1761058800-1761060600@bpca.ny.gov
SUMMARY:CHILDREN’S SPORTS (Ages 3-5)
DESCRIPTION:Develop your coordination and balance\, practice your hitting\, catching\, and game play! Practice the basics of various sports with fun and challenging games and drills for all levels. Closed-toe shoes required.
URL:https://bpca.ny.gov/event/childrens-sports-ages-3-5-4/2025-10-21/
LOCATION:Rockefeller Park\, New York\, NY\, United States
CATEGORIES:entertainment,Exercise,Games & Sports,Kids,Parks & Rec.
ATTACH;FMTTYPE=image/jpeg:https://media.bpca.ny.gov/wp-content/uploads/2024/11/25135207/sports-e1732560741669.jpeg
GEO:40.7581794;-73.9591264
END:VEVENT
END:VCALENDAR