BEGIN:VCALENDAR
VERSION:2.0
PRODID:-//BATTERY PARK CITY AUTHORITY - ECPv6.15.17.1//NONSGML v1.0//EN
CALSCALE:GREGORIAN
METHOD:PUBLISH
X-WR-CALNAME:BATTERY PARK CITY AUTHORITY
X-ORIGINAL-URL:https://bpca.ny.gov
X-WR-CALDESC:Events for BATTERY PARK CITY AUTHORITY
REFRESH-INTERVAL;VALUE=DURATION:PT1H
X-Robots-Tag:noindex
X-PUBLISHED-TTL:PT1H
BEGIN:VTIMEZONE
TZID:America/New_York
BEGIN:DAYLIGHT
TZOFFSETFROM:-0500
TZOFFSETTO:-0400
TZNAME:EDT
DTSTART:20210314T070000
END:DAYLIGHT
BEGIN:STANDARD
TZOFFSETFROM:-0400
TZOFFSETTO:-0500
TZNAME:EST
DTSTART:20211107T060000
END:STANDARD
BEGIN:DAYLIGHT
TZOFFSETFROM:-0500
TZOFFSETTO:-0400
TZNAME:EDT
DTSTART:20220313T070000
END:DAYLIGHT
BEGIN:STANDARD
TZOFFSETFROM:-0400
TZOFFSETTO:-0500
TZNAME:EST
DTSTART:20221106T060000
END:STANDARD
BEGIN:DAYLIGHT
TZOFFSETFROM:-0500
TZOFFSETTO:-0400
TZNAME:EDT
DTSTART:20230312T070000
END:DAYLIGHT
BEGIN:STANDARD
TZOFFSETFROM:-0400
TZOFFSETTO:-0500
TZNAME:EST
DTSTART:20231105T060000
END:STANDARD
BEGIN:DAYLIGHT
TZOFFSETFROM:-0500
TZOFFSETTO:-0400
TZNAME:EDT
DTSTART:20240310T070000
END:DAYLIGHT
BEGIN:STANDARD
TZOFFSETFROM:-0400
TZOFFSETTO:-0500
TZNAME:EST
DTSTART:20241103T060000
END:STANDARD
BEGIN:DAYLIGHT
TZOFFSETFROM:-0500
TZOFFSETTO:-0400
TZNAME:EDT
DTSTART:20250309T070000
END:DAYLIGHT
BEGIN:STANDARD
TZOFFSETFROM:-0400
TZOFFSETTO:-0500
TZNAME:EST
DTSTART:20251102T060000
END:STANDARD
BEGIN:DAYLIGHT
TZOFFSETFROM:-0500
TZOFFSETTO:-0400
TZNAME:EDT
DTSTART:20260308T070000
END:DAYLIGHT
BEGIN:STANDARD
TZOFFSETFROM:-0400
TZOFFSETTO:-0500
TZNAME:EST
DTSTART:20261101T060000
END:STANDARD
END:VTIMEZONE
BEGIN:VEVENT
DTSTART;TZID=America/New_York:20250426T103000
DTEND;TZID=America/New_York:20250426T120000
DTSTAMP:20260422T141859
CREATED:20241202T195526Z
LAST-MODIFIED:20250425T181536Z
UID:10010317-1745663400-1745668800@bpca.ny.gov
SUMMARY:S.T.E.A.M. DREAM - Cancelled
DESCRIPTION:Kids are invited to pick up S.T.E.A.M. (Science\, Technology\, Engineering\, Arts and Mathematics) at this special Earth Month themed open air fair. The event will feature a variety of engaging activities and a pop up lab with BioBus who help K-12 and college students discover\, explore\, and pursue science. \nFree to attend\, click HERE to rsvp.
URL:https://bpca.ny.gov/event/s-t-e-a-m-dream-2/
LOCATION:Rockefeller Park Basketball Court\, River Terrace & Murray Street\, New York\, NY\, 10280
CATEGORIES:Community,Education,Environment,Kids & Family,Special Event
ATTACH;FMTTYPE=image/png:https://media.bpca.ny.gov/wp-content/uploads/2023/03/28091233/Steam-Dream-Workshop-Banner-22-01-e1680009161751.png
END:VEVENT
BEGIN:VEVENT
DTSTART;TZID=America/New_York:20240420T110000
DTEND;TZID=America/New_York:20240420T123000
DTSTAMP:20260422T141859
CREATED:20231205T162041Z
LAST-MODIFIED:20231205T162041Z
UID:10007330-1713610800-1713616200@bpca.ny.gov
SUMMARY:S.T.E.A.M. DREAM
DESCRIPTION:In celebration of Earth Month\, kids are invited to pick up S.T.E.A.M (Science\, Technology\, Engineering\, Arts and Mathematics) at this special Earth Day themed open air fair featuring engaging activities and a live performance from the Stem Queen.
URL:https://bpca.ny.gov/event/s-t-e-a-m-dream/
LOCATION:Rockefeller Park Basketball Court\, River Terrace & Murray Street\, New York\, NY\, 10280
ATTACH;FMTTYPE=image/png:https://media.bpca.ny.gov/wp-content/uploads/2023/03/28091233/Steam-Dream-Workshop-Banner-22-01-e1680009161751.png
END:VEVENT
BEGIN:VEVENT
DTSTART;TZID=America/New_York:20230422T110000
DTEND;TZID=America/New_York:20230422T123000
DTSTAMP:20260422T141859
CREATED:20230328T131410Z
LAST-MODIFIED:20230328T131410Z
UID:10005480-1682161200-1682166600@bpca.ny.gov
SUMMARY:EARTH DAY: S.T.E.A.M. DREAM
DESCRIPTION:Kids are invited to pick up S.T.E.A.M (Science\, Technology\, Engineering\, Arts and Mathematics) at this special Earth Day themed open air fair featuring engaging activities and a live performance from Mad Science.  \nFREE RSVP 
URL:https://bpca.ny.gov/event/earth-day-s-t-e-a-m-dream/
LOCATION:Rockefeller Park Basketball Court\, River Terrace & Murray Street\, New York\, NY\, 10280
CATEGORIES:Art & Culture,Community,Education,entertainment,Environment,Kids,Kids & Family,Nature,Parks & Rec.,Special Event
ATTACH;FMTTYPE=image/png:https://media.bpca.ny.gov/wp-content/uploads/2023/03/28091233/Steam-Dream-Workshop-Banner-22-01-e1680009161751.png
END:VEVENT
BEGIN:VEVENT
DTSTART;TZID=America/New_York:20220822T154500
DTEND;TZID=America/New_York:20220822T163000
DTSTAMP:20260422T141859
CREATED:20220407T132208Z
LAST-MODIFIED:20220815T040701Z
UID:10003949-1661183100-1661185800@bpca.ny.gov
SUMMARY:CHILDREN’S BASKETBALL (Ages 6-10)
DESCRIPTION:Develop your coordination and balance\, practice your dribbling\, refine your jump shot\, and play! Practice the basics of basketball with fun and challenging games on adjustable height hoops with drills for all levels. Closed-toe shoes required. No program on 5/30\, 6/20\, 7/4\, 9/5.
URL:https://bpca.ny.gov/event/childrens-basketball-ages-6-10/2022-08-22/
LOCATION:Rockefeller Park Basketball Court\, River Terrace & Murray Street\, New York\, NY\, 10280
CATEGORIES:Classes,Exercise,Games & Sports,Kids,Parks & Rec.
ATTACH;FMTTYPE=image/jpeg:https://media.bpca.ny.gov/uploads/2019/05/basketball-for-kids.jpg
END:VEVENT
BEGIN:VEVENT
DTSTART;TZID=America/New_York:20220822T150000
DTEND;TZID=America/New_York:20220822T153000
DTSTAMP:20260422T141859
CREATED:20220407T131713Z
LAST-MODIFIED:20220815T040519Z
UID:10003932-1661180400-1661182200@bpca.ny.gov
SUMMARY:CHILDREN’S BASKETBALL (Ages 3-5)
DESCRIPTION:Develop your coordination and balance\, practice your dribbling\, refine your jump shot\, and play! Practice the basics of basketball with fun and challenging games on adjustable height hoops with drills for all levels. Closed-toe shoes required. No program on 5/30\, 6/20\, 7/4\, 9/5.
URL:https://bpca.ny.gov/event/childrens-basketball-ages-3-5/2022-08-22/
LOCATION:Rockefeller Park Basketball Court\, River Terrace & Murray Street\, New York\, NY\, 10280
CATEGORIES:Classes,Exercise,Games & Sports,Kids,Parks & Rec.
ATTACH;FMTTYPE=image/jpeg:https://media.bpca.ny.gov/uploads/2019/05/childrens_basketball.jpg
END:VEVENT
BEGIN:VEVENT
DTSTART;TZID=America/New_York:20220815T154500
DTEND;TZID=America/New_York:20220815T163000
DTSTAMP:20260422T141859
CREATED:20220407T132208Z
LAST-MODIFIED:20220815T040701Z
UID:10003948-1660578300-1660581000@bpca.ny.gov
SUMMARY:CHILDREN’S BASKETBALL (Ages 6-10)
DESCRIPTION:Develop your coordination and balance\, practice your dribbling\, refine your jump shot\, and play! Practice the basics of basketball with fun and challenging games on adjustable height hoops with drills for all levels. Closed-toe shoes required. No program on 5/30\, 6/20\, 7/4\, 9/5.
URL:https://bpca.ny.gov/event/childrens-basketball-ages-6-10/2022-08-15/
LOCATION:Rockefeller Park Basketball Court\, River Terrace & Murray Street\, New York\, NY\, 10280
CATEGORIES:Classes,Exercise,Games & Sports,Kids,Parks & Rec.
ATTACH;FMTTYPE=image/jpeg:https://media.bpca.ny.gov/uploads/2019/05/basketball-for-kids.jpg
END:VEVENT
BEGIN:VEVENT
DTSTART;TZID=America/New_York:20220815T150000
DTEND;TZID=America/New_York:20220815T153000
DTSTAMP:20260422T141859
CREATED:20220407T131713Z
LAST-MODIFIED:20220815T040519Z
UID:10003931-1660575600-1660577400@bpca.ny.gov
SUMMARY:CHILDREN’S BASKETBALL (Ages 3-5)
DESCRIPTION:Develop your coordination and balance\, practice your dribbling\, refine your jump shot\, and play! Practice the basics of basketball with fun and challenging games on adjustable height hoops with drills for all levels. Closed-toe shoes required. No program on 5/30\, 6/20\, 7/4\, 9/5.
URL:https://bpca.ny.gov/event/childrens-basketball-ages-3-5/2022-08-15/
LOCATION:Rockefeller Park Basketball Court\, River Terrace & Murray Street\, New York\, NY\, 10280
CATEGORIES:Classes,Exercise,Games & Sports,Kids,Parks & Rec.
ATTACH;FMTTYPE=image/jpeg:https://media.bpca.ny.gov/uploads/2019/05/childrens_basketball.jpg
END:VEVENT
BEGIN:VEVENT
DTSTART;TZID=America/New_York:20220808T154500
DTEND;TZID=America/New_York:20220808T163000
DTSTAMP:20260422T141859
CREATED:20220407T132208Z
LAST-MODIFIED:20220815T040701Z
UID:10003947-1659973500-1659976200@bpca.ny.gov
SUMMARY:CHILDREN’S BASKETBALL (Ages 6-10)
DESCRIPTION:Develop your coordination and balance\, practice your dribbling\, refine your jump shot\, and play! Practice the basics of basketball with fun and challenging games on adjustable height hoops with drills for all levels. Closed-toe shoes required. No program on 5/30\, 6/20\, 7/4\, 9/5.
URL:https://bpca.ny.gov/event/childrens-basketball-ages-6-10/2022-08-08/
LOCATION:Rockefeller Park Basketball Court\, River Terrace & Murray Street\, New York\, NY\, 10280
CATEGORIES:Classes,Exercise,Games & Sports,Kids,Parks & Rec.
ATTACH;FMTTYPE=image/jpeg:https://media.bpca.ny.gov/uploads/2019/05/basketball-for-kids.jpg
END:VEVENT
BEGIN:VEVENT
DTSTART;TZID=America/New_York:20220808T150000
DTEND;TZID=America/New_York:20220808T153000
DTSTAMP:20260422T141859
CREATED:20220407T131713Z
LAST-MODIFIED:20220815T040519Z
UID:10003930-1659970800-1659972600@bpca.ny.gov
SUMMARY:CHILDREN’S BASKETBALL (Ages 3-5)
DESCRIPTION:Develop your coordination and balance\, practice your dribbling\, refine your jump shot\, and play! Practice the basics of basketball with fun and challenging games on adjustable height hoops with drills for all levels. Closed-toe shoes required. No program on 5/30\, 6/20\, 7/4\, 9/5.
URL:https://bpca.ny.gov/event/childrens-basketball-ages-3-5/2022-08-08/
LOCATION:Rockefeller Park Basketball Court\, River Terrace & Murray Street\, New York\, NY\, 10280
CATEGORIES:Classes,Exercise,Games & Sports,Kids,Parks & Rec.
ATTACH;FMTTYPE=image/jpeg:https://media.bpca.ny.gov/uploads/2019/05/childrens_basketball.jpg
END:VEVENT
BEGIN:VEVENT
DTSTART;TZID=America/New_York:20220801T154500
DTEND;TZID=America/New_York:20220801T163000
DTSTAMP:20260422T141859
CREATED:20220407T132208Z
LAST-MODIFIED:20220815T040701Z
UID:10003946-1659368700-1659371400@bpca.ny.gov
SUMMARY:CHILDREN’S BASKETBALL (Ages 6-10)
DESCRIPTION:Develop your coordination and balance\, practice your dribbling\, refine your jump shot\, and play! Practice the basics of basketball with fun and challenging games on adjustable height hoops with drills for all levels. Closed-toe shoes required. No program on 5/30\, 6/20\, 7/4\, 9/5.
URL:https://bpca.ny.gov/event/childrens-basketball-ages-6-10/2022-08-01/
LOCATION:Rockefeller Park Basketball Court\, River Terrace & Murray Street\, New York\, NY\, 10280
CATEGORIES:Classes,Exercise,Games & Sports,Kids,Parks & Rec.
ATTACH;FMTTYPE=image/jpeg:https://media.bpca.ny.gov/uploads/2019/05/basketball-for-kids.jpg
END:VEVENT
BEGIN:VEVENT
DTSTART;TZID=America/New_York:20220801T150000
DTEND;TZID=America/New_York:20220801T153000
DTSTAMP:20260422T141859
CREATED:20220407T131713Z
LAST-MODIFIED:20220815T040519Z
UID:10003929-1659366000-1659367800@bpca.ny.gov
SUMMARY:CHILDREN’S BASKETBALL (Ages 3-5)
DESCRIPTION:Develop your coordination and balance\, practice your dribbling\, refine your jump shot\, and play! Practice the basics of basketball with fun and challenging games on adjustable height hoops with drills for all levels. Closed-toe shoes required. No program on 5/30\, 6/20\, 7/4\, 9/5.
URL:https://bpca.ny.gov/event/childrens-basketball-ages-3-5/2022-08-01/
LOCATION:Rockefeller Park Basketball Court\, River Terrace & Murray Street\, New York\, NY\, 10280
CATEGORIES:Classes,Exercise,Games & Sports,Kids,Parks & Rec.
ATTACH;FMTTYPE=image/jpeg:https://media.bpca.ny.gov/uploads/2019/05/childrens_basketball.jpg
END:VEVENT
BEGIN:VEVENT
DTSTART;TZID=America/New_York:20220725T154500
DTEND;TZID=America/New_York:20220725T163000
DTSTAMP:20260422T141859
CREATED:20220407T132208Z
LAST-MODIFIED:20220815T040701Z
UID:10003945-1658763900-1658766600@bpca.ny.gov
SUMMARY:CHILDREN’S BASKETBALL (Ages 6-10)
DESCRIPTION:Develop your coordination and balance\, practice your dribbling\, refine your jump shot\, and play! Practice the basics of basketball with fun and challenging games on adjustable height hoops with drills for all levels. Closed-toe shoes required. No program on 5/30\, 6/20\, 7/4\, 9/5.
URL:https://bpca.ny.gov/event/childrens-basketball-ages-6-10/2022-07-25/
LOCATION:Rockefeller Park Basketball Court\, River Terrace & Murray Street\, New York\, NY\, 10280
CATEGORIES:Classes,Exercise,Games & Sports,Kids,Parks & Rec.
ATTACH;FMTTYPE=image/jpeg:https://media.bpca.ny.gov/uploads/2019/05/basketball-for-kids.jpg
END:VEVENT
BEGIN:VEVENT
DTSTART;TZID=America/New_York:20220725T150000
DTEND;TZID=America/New_York:20220725T153000
DTSTAMP:20260422T141859
CREATED:20220407T131713Z
LAST-MODIFIED:20220815T040519Z
UID:10003928-1658761200-1658763000@bpca.ny.gov
SUMMARY:CHILDREN’S BASKETBALL (Ages 3-5)
DESCRIPTION:Develop your coordination and balance\, practice your dribbling\, refine your jump shot\, and play! Practice the basics of basketball with fun and challenging games on adjustable height hoops with drills for all levels. Closed-toe shoes required. No program on 5/30\, 6/20\, 7/4\, 9/5.
URL:https://bpca.ny.gov/event/childrens-basketball-ages-3-5/2022-07-25/
LOCATION:Rockefeller Park Basketball Court\, River Terrace & Murray Street\, New York\, NY\, 10280
CATEGORIES:Classes,Exercise,Games & Sports,Kids,Parks & Rec.
ATTACH;FMTTYPE=image/jpeg:https://media.bpca.ny.gov/uploads/2019/05/childrens_basketball.jpg
END:VEVENT
BEGIN:VEVENT
DTSTART;TZID=America/New_York:20220718T154500
DTEND;TZID=America/New_York:20220718T163000
DTSTAMP:20260422T141859
CREATED:20220407T132208Z
LAST-MODIFIED:20220815T040701Z
UID:10003944-1658159100-1658161800@bpca.ny.gov
SUMMARY:CHILDREN’S BASKETBALL (Ages 6-10)
DESCRIPTION:Develop your coordination and balance\, practice your dribbling\, refine your jump shot\, and play! Practice the basics of basketball with fun and challenging games on adjustable height hoops with drills for all levels. Closed-toe shoes required. No program on 5/30\, 6/20\, 7/4\, 9/5.
URL:https://bpca.ny.gov/event/childrens-basketball-ages-6-10/2022-07-18/
LOCATION:Rockefeller Park Basketball Court\, River Terrace & Murray Street\, New York\, NY\, 10280
CATEGORIES:Classes,Exercise,Games & Sports,Kids,Parks & Rec.
ATTACH;FMTTYPE=image/jpeg:https://media.bpca.ny.gov/uploads/2019/05/basketball-for-kids.jpg
END:VEVENT
BEGIN:VEVENT
DTSTART;TZID=America/New_York:20220718T150000
DTEND;TZID=America/New_York:20220718T153000
DTSTAMP:20260422T141859
CREATED:20220407T131713Z
LAST-MODIFIED:20220815T040519Z
UID:10003927-1658156400-1658158200@bpca.ny.gov
SUMMARY:CHILDREN’S BASKETBALL (Ages 3-5)
DESCRIPTION:Develop your coordination and balance\, practice your dribbling\, refine your jump shot\, and play! Practice the basics of basketball with fun and challenging games on adjustable height hoops with drills for all levels. Closed-toe shoes required. No program on 5/30\, 6/20\, 7/4\, 9/5.
URL:https://bpca.ny.gov/event/childrens-basketball-ages-3-5/2022-07-18/
LOCATION:Rockefeller Park Basketball Court\, River Terrace & Murray Street\, New York\, NY\, 10280
CATEGORIES:Classes,Exercise,Games & Sports,Kids,Parks & Rec.
ATTACH;FMTTYPE=image/jpeg:https://media.bpca.ny.gov/uploads/2019/05/childrens_basketball.jpg
END:VEVENT
BEGIN:VEVENT
DTSTART;TZID=America/New_York:20220711T154500
DTEND;TZID=America/New_York:20220711T163000
DTSTAMP:20260422T141859
CREATED:20220407T132208Z
LAST-MODIFIED:20220815T040701Z
UID:10003943-1657554300-1657557000@bpca.ny.gov
SUMMARY:CHILDREN’S BASKETBALL (Ages 6-10)
DESCRIPTION:Develop your coordination and balance\, practice your dribbling\, refine your jump shot\, and play! Practice the basics of basketball with fun and challenging games on adjustable height hoops with drills for all levels. Closed-toe shoes required. No program on 5/30\, 6/20\, 7/4\, 9/5.
URL:https://bpca.ny.gov/event/childrens-basketball-ages-6-10/2022-07-11/
LOCATION:Rockefeller Park Basketball Court\, River Terrace & Murray Street\, New York\, NY\, 10280
CATEGORIES:Classes,Exercise,Games & Sports,Kids,Parks & Rec.
ATTACH;FMTTYPE=image/jpeg:https://media.bpca.ny.gov/uploads/2019/05/basketball-for-kids.jpg
END:VEVENT
BEGIN:VEVENT
DTSTART;TZID=America/New_York:20220711T150000
DTEND;TZID=America/New_York:20220711T153000
DTSTAMP:20260422T141859
CREATED:20220407T131713Z
LAST-MODIFIED:20220815T040519Z
UID:10003926-1657551600-1657553400@bpca.ny.gov
SUMMARY:CHILDREN’S BASKETBALL (Ages 3-5)
DESCRIPTION:Develop your coordination and balance\, practice your dribbling\, refine your jump shot\, and play! Practice the basics of basketball with fun and challenging games on adjustable height hoops with drills for all levels. Closed-toe shoes required. No program on 5/30\, 6/20\, 7/4\, 9/5.
URL:https://bpca.ny.gov/event/childrens-basketball-ages-3-5/2022-07-11/
LOCATION:Rockefeller Park Basketball Court\, River Terrace & Murray Street\, New York\, NY\, 10280
CATEGORIES:Classes,Exercise,Games & Sports,Kids,Parks & Rec.
ATTACH;FMTTYPE=image/jpeg:https://media.bpca.ny.gov/uploads/2019/05/childrens_basketball.jpg
END:VEVENT
BEGIN:VEVENT
DTSTART;TZID=America/New_York:20220627T154500
DTEND;TZID=America/New_York:20220627T163000
DTSTAMP:20260422T141859
CREATED:20220407T132208Z
LAST-MODIFIED:20220815T040701Z
UID:10003942-1656344700-1656347400@bpca.ny.gov
SUMMARY:CHILDREN’S BASKETBALL (Ages 6-10)
DESCRIPTION:Develop your coordination and balance\, practice your dribbling\, refine your jump shot\, and play! Practice the basics of basketball with fun and challenging games on adjustable height hoops with drills for all levels. Closed-toe shoes required. No program on 5/30\, 6/20\, 7/4\, 9/5.
URL:https://bpca.ny.gov/event/childrens-basketball-ages-6-10/2022-06-27/
LOCATION:Rockefeller Park Basketball Court\, River Terrace & Murray Street\, New York\, NY\, 10280
CATEGORIES:Classes,Exercise,Games & Sports,Kids,Parks & Rec.
ATTACH;FMTTYPE=image/jpeg:https://media.bpca.ny.gov/uploads/2019/05/basketball-for-kids.jpg
END:VEVENT
BEGIN:VEVENT
DTSTART;TZID=America/New_York:20220613T154500
DTEND;TZID=America/New_York:20220613T163000
DTSTAMP:20260422T141859
CREATED:20220407T132208Z
LAST-MODIFIED:20220815T040701Z
UID:10003941-1655135100-1655137800@bpca.ny.gov
SUMMARY:CHILDREN’S BASKETBALL (Ages 6-10)
DESCRIPTION:Develop your coordination and balance\, practice your dribbling\, refine your jump shot\, and play! Practice the basics of basketball with fun and challenging games on adjustable height hoops with drills for all levels. Closed-toe shoes required. No program on 5/30\, 6/20\, 7/4\, 9/5.
URL:https://bpca.ny.gov/event/childrens-basketball-ages-6-10/2022-06-13/
LOCATION:Rockefeller Park Basketball Court\, River Terrace & Murray Street\, New York\, NY\, 10280
CATEGORIES:Classes,Exercise,Games & Sports,Kids,Parks & Rec.
ATTACH;FMTTYPE=image/jpeg:https://media.bpca.ny.gov/uploads/2019/05/basketball-for-kids.jpg
END:VEVENT
BEGIN:VEVENT
DTSTART;TZID=America/New_York:20220613T150000
DTEND;TZID=America/New_York:20220613T153000
DTSTAMP:20260422T141859
CREATED:20220407T131713Z
LAST-MODIFIED:20220815T040519Z
UID:10003925-1655132400-1655134200@bpca.ny.gov
SUMMARY:CHILDREN’S BASKETBALL (Ages 3-5)
DESCRIPTION:Develop your coordination and balance\, practice your dribbling\, refine your jump shot\, and play! Practice the basics of basketball with fun and challenging games on adjustable height hoops with drills for all levels. Closed-toe shoes required. No program on 5/30\, 6/20\, 7/4\, 9/5.
URL:https://bpca.ny.gov/event/childrens-basketball-ages-3-5/2022-06-13/
LOCATION:Rockefeller Park Basketball Court\, River Terrace & Murray Street\, New York\, NY\, 10280
CATEGORIES:Classes,Exercise,Games & Sports,Kids,Parks & Rec.
ATTACH;FMTTYPE=image/jpeg:https://media.bpca.ny.gov/uploads/2019/05/childrens_basketball.jpg
END:VEVENT
BEGIN:VEVENT
DTSTART;TZID=America/New_York:20220606T154500
DTEND;TZID=America/New_York:20220606T163000
DTSTAMP:20260422T141859
CREATED:20220407T132208Z
LAST-MODIFIED:20220815T040701Z
UID:10003940-1654530300-1654533000@bpca.ny.gov
SUMMARY:CHILDREN’S BASKETBALL (Ages 6-10)
DESCRIPTION:Develop your coordination and balance\, practice your dribbling\, refine your jump shot\, and play! Practice the basics of basketball with fun and challenging games on adjustable height hoops with drills for all levels. Closed-toe shoes required. No program on 5/30\, 6/20\, 7/4\, 9/5.
URL:https://bpca.ny.gov/event/childrens-basketball-ages-6-10/2022-06-06/
LOCATION:Rockefeller Park Basketball Court\, River Terrace & Murray Street\, New York\, NY\, 10280
CATEGORIES:Classes,Exercise,Games & Sports,Kids,Parks & Rec.
ATTACH;FMTTYPE=image/jpeg:https://media.bpca.ny.gov/uploads/2019/05/basketball-for-kids.jpg
END:VEVENT
BEGIN:VEVENT
DTSTART;TZID=America/New_York:20220606T150000
DTEND;TZID=America/New_York:20220606T153000
DTSTAMP:20260422T141859
CREATED:20220407T131713Z
LAST-MODIFIED:20220815T040519Z
UID:10003924-1654527600-1654529400@bpca.ny.gov
SUMMARY:CHILDREN’S BASKETBALL (Ages 3-5)
DESCRIPTION:Develop your coordination and balance\, practice your dribbling\, refine your jump shot\, and play! Practice the basics of basketball with fun and challenging games on adjustable height hoops with drills for all levels. Closed-toe shoes required. No program on 5/30\, 6/20\, 7/4\, 9/5.
URL:https://bpca.ny.gov/event/childrens-basketball-ages-3-5/2022-06-06/
LOCATION:Rockefeller Park Basketball Court\, River Terrace & Murray Street\, New York\, NY\, 10280
CATEGORIES:Classes,Exercise,Games & Sports,Kids,Parks & Rec.
ATTACH;FMTTYPE=image/jpeg:https://media.bpca.ny.gov/uploads/2019/05/childrens_basketball.jpg
END:VEVENT
BEGIN:VEVENT
DTSTART;TZID=America/New_York:20220523T154500
DTEND;TZID=America/New_York:20220523T163000
DTSTAMP:20260422T141859
CREATED:20220407T132208Z
LAST-MODIFIED:20220815T040701Z
UID:10003939-1653320700-1653323400@bpca.ny.gov
SUMMARY:CHILDREN’S BASKETBALL (Ages 6-10)
DESCRIPTION:Develop your coordination and balance\, practice your dribbling\, refine your jump shot\, and play! Practice the basics of basketball with fun and challenging games on adjustable height hoops with drills for all levels. Closed-toe shoes required. No program on 5/30\, 6/20\, 7/4\, 9/5.
URL:https://bpca.ny.gov/event/childrens-basketball-ages-6-10/2022-05-23/
LOCATION:Rockefeller Park Basketball Court\, River Terrace & Murray Street\, New York\, NY\, 10280
CATEGORIES:Classes,Exercise,Games & Sports,Kids,Parks & Rec.
ATTACH;FMTTYPE=image/jpeg:https://media.bpca.ny.gov/uploads/2019/05/basketball-for-kids.jpg
END:VEVENT
BEGIN:VEVENT
DTSTART;TZID=America/New_York:20220523T150000
DTEND;TZID=America/New_York:20220523T153000
DTSTAMP:20260422T141859
CREATED:20220407T131713Z
LAST-MODIFIED:20220815T040519Z
UID:10003923-1653318000-1653319800@bpca.ny.gov
SUMMARY:CHILDREN’S BASKETBALL (Ages 3-5)
DESCRIPTION:Develop your coordination and balance\, practice your dribbling\, refine your jump shot\, and play! Practice the basics of basketball with fun and challenging games on adjustable height hoops with drills for all levels. Closed-toe shoes required. No program on 5/30\, 6/20\, 7/4\, 9/5.
URL:https://bpca.ny.gov/event/childrens-basketball-ages-3-5/2022-05-23/
LOCATION:Rockefeller Park Basketball Court\, River Terrace & Murray Street\, New York\, NY\, 10280
CATEGORIES:Classes,Exercise,Games & Sports,Kids,Parks & Rec.
ATTACH;FMTTYPE=image/jpeg:https://media.bpca.ny.gov/uploads/2019/05/childrens_basketball.jpg
END:VEVENT
BEGIN:VEVENT
DTSTART;TZID=America/New_York:20220516T154500
DTEND;TZID=America/New_York:20220516T163000
DTSTAMP:20260422T141859
CREATED:20220407T132208Z
LAST-MODIFIED:20220815T040701Z
UID:10003938-1652715900-1652718600@bpca.ny.gov
SUMMARY:CHILDREN’S BASKETBALL (Ages 6-10)
DESCRIPTION:Develop your coordination and balance\, practice your dribbling\, refine your jump shot\, and play! Practice the basics of basketball with fun and challenging games on adjustable height hoops with drills for all levels. Closed-toe shoes required. No program on 5/30\, 6/20\, 7/4\, 9/5.
URL:https://bpca.ny.gov/event/childrens-basketball-ages-6-10/2022-05-16/
LOCATION:Rockefeller Park Basketball Court\, River Terrace & Murray Street\, New York\, NY\, 10280
CATEGORIES:Classes,Exercise,Games & Sports,Kids,Parks & Rec.
ATTACH;FMTTYPE=image/jpeg:https://media.bpca.ny.gov/uploads/2019/05/basketball-for-kids.jpg
END:VEVENT
BEGIN:VEVENT
DTSTART;TZID=America/New_York:20220516T150000
DTEND;TZID=America/New_York:20220516T153000
DTSTAMP:20260422T141859
CREATED:20220407T131713Z
LAST-MODIFIED:20220815T040519Z
UID:10003922-1652713200-1652715000@bpca.ny.gov
SUMMARY:CHILDREN’S BASKETBALL (Ages 3-5)
DESCRIPTION:Develop your coordination and balance\, practice your dribbling\, refine your jump shot\, and play! Practice the basics of basketball with fun and challenging games on adjustable height hoops with drills for all levels. Closed-toe shoes required. No program on 5/30\, 6/20\, 7/4\, 9/5.
URL:https://bpca.ny.gov/event/childrens-basketball-ages-3-5/2022-05-16/
LOCATION:Rockefeller Park Basketball Court\, River Terrace & Murray Street\, New York\, NY\, 10280
CATEGORIES:Classes,Exercise,Games & Sports,Kids,Parks & Rec.
ATTACH;FMTTYPE=image/jpeg:https://media.bpca.ny.gov/uploads/2019/05/childrens_basketball.jpg
END:VEVENT
BEGIN:VEVENT
DTSTART;TZID=America/New_York:20220509T154500
DTEND;TZID=America/New_York:20220509T163000
DTSTAMP:20260422T141859
CREATED:20220407T132208Z
LAST-MODIFIED:20220815T040701Z
UID:10003937-1652111100-1652113800@bpca.ny.gov
SUMMARY:CHILDREN’S BASKETBALL (Ages 6-10)
DESCRIPTION:Develop your coordination and balance\, practice your dribbling\, refine your jump shot\, and play! Practice the basics of basketball with fun and challenging games on adjustable height hoops with drills for all levels. Closed-toe shoes required. No program on 5/30\, 6/20\, 7/4\, 9/5.
URL:https://bpca.ny.gov/event/childrens-basketball-ages-6-10/2022-05-09/
LOCATION:Rockefeller Park Basketball Court\, River Terrace & Murray Street\, New York\, NY\, 10280
CATEGORIES:Classes,Exercise,Games & Sports,Kids,Parks & Rec.
ATTACH;FMTTYPE=image/jpeg:https://media.bpca.ny.gov/uploads/2019/05/basketball-for-kids.jpg
END:VEVENT
BEGIN:VEVENT
DTSTART;TZID=America/New_York:20220509T150000
DTEND;TZID=America/New_York:20220509T153000
DTSTAMP:20260422T141859
CREATED:20220407T131713Z
LAST-MODIFIED:20220815T040519Z
UID:10003921-1652108400-1652110200@bpca.ny.gov
SUMMARY:CHILDREN’S BASKETBALL (Ages 3-5)
DESCRIPTION:Develop your coordination and balance\, practice your dribbling\, refine your jump shot\, and play! Practice the basics of basketball with fun and challenging games on adjustable height hoops with drills for all levels. Closed-toe shoes required. No program on 5/30\, 6/20\, 7/4\, 9/5.
URL:https://bpca.ny.gov/event/childrens-basketball-ages-3-5/2022-05-09/
LOCATION:Rockefeller Park Basketball Court\, River Terrace & Murray Street\, New York\, NY\, 10280
CATEGORIES:Classes,Exercise,Games & Sports,Kids,Parks & Rec.
ATTACH;FMTTYPE=image/jpeg:https://media.bpca.ny.gov/uploads/2019/05/childrens_basketball.jpg
END:VEVENT
BEGIN:VEVENT
DTSTART;TZID=America/New_York:20220502T154500
DTEND;TZID=America/New_York:20220502T163000
DTSTAMP:20260422T141859
CREATED:20220407T132208Z
LAST-MODIFIED:20220815T040701Z
UID:10003936-1651506300-1651509000@bpca.ny.gov
SUMMARY:CHILDREN’S BASKETBALL (Ages 6-10)
DESCRIPTION:Develop your coordination and balance\, practice your dribbling\, refine your jump shot\, and play! Practice the basics of basketball with fun and challenging games on adjustable height hoops with drills for all levels. Closed-toe shoes required. No program on 5/30\, 6/20\, 7/4\, 9/5.
URL:https://bpca.ny.gov/event/childrens-basketball-ages-6-10/2022-05-02/
LOCATION:Rockefeller Park Basketball Court\, River Terrace & Murray Street\, New York\, NY\, 10280
CATEGORIES:Classes,Exercise,Games & Sports,Kids,Parks & Rec.
ATTACH;FMTTYPE=image/jpeg:https://media.bpca.ny.gov/uploads/2019/05/basketball-for-kids.jpg
END:VEVENT
BEGIN:VEVENT
DTSTART;TZID=America/New_York:20220502T150000
DTEND;TZID=America/New_York:20220502T153000
DTSTAMP:20260422T141859
CREATED:20220407T131713Z
LAST-MODIFIED:20220815T040519Z
UID:10003920-1651503600-1651505400@bpca.ny.gov
SUMMARY:CHILDREN’S BASKETBALL (Ages 3-5)
DESCRIPTION:Develop your coordination and balance\, practice your dribbling\, refine your jump shot\, and play! Practice the basics of basketball with fun and challenging games on adjustable height hoops with drills for all levels. Closed-toe shoes required. No program on 5/30\, 6/20\, 7/4\, 9/5.
URL:https://bpca.ny.gov/event/childrens-basketball-ages-3-5/2022-05-02/
LOCATION:Rockefeller Park Basketball Court\, River Terrace & Murray Street\, New York\, NY\, 10280
CATEGORIES:Classes,Exercise,Games & Sports,Kids,Parks & Rec.
ATTACH;FMTTYPE=image/jpeg:https://media.bpca.ny.gov/uploads/2019/05/childrens_basketball.jpg
END:VEVENT
END:VCALENDAR