BEGIN:VCALENDAR
VERSION:2.0
PRODID:-//BATTERY PARK CITY AUTHORITY - ECPv6.15.17.1//NONSGML v1.0//EN
CALSCALE:GREGORIAN
METHOD:PUBLISH
X-ORIGINAL-URL:https://bpca.ny.gov
X-WR-CALDESC:Events for BATTERY PARK CITY AUTHORITY
REFRESH-INTERVAL;VALUE=DURATION:PT1H
X-Robots-Tag:noindex
X-PUBLISHED-TTL:PT1H
BEGIN:VTIMEZONE
TZID:America/New_York
BEGIN:DAYLIGHT
TZOFFSETFROM:-0500
TZOFFSETTO:-0400
TZNAME:EDT
DTSTART:20250309T070000
END:DAYLIGHT
BEGIN:STANDARD
TZOFFSETFROM:-0400
TZOFFSETTO:-0500
TZNAME:EST
DTSTART:20251102T060000
END:STANDARD
BEGIN:DAYLIGHT
TZOFFSETFROM:-0500
TZOFFSETTO:-0400
TZNAME:EDT
DTSTART:20260308T070000
END:DAYLIGHT
BEGIN:STANDARD
TZOFFSETFROM:-0400
TZOFFSETTO:-0500
TZNAME:EST
DTSTART:20261101T060000
END:STANDARD
BEGIN:DAYLIGHT
TZOFFSETFROM:-0500
TZOFFSETTO:-0400
TZNAME:EDT
DTSTART:20270314T070000
END:DAYLIGHT
BEGIN:STANDARD
TZOFFSETFROM:-0400
TZOFFSETTO:-0500
TZNAME:EST
DTSTART:20271107T060000
END:STANDARD
END:VTIMEZONE
BEGIN:VEVENT
DTSTART;TZID=America/New_York:20260425T103000
DTEND;TZID=America/New_York:20260425T120000
DTSTAMP:20260422T125751
CREATED:20251022T182442Z
LAST-MODIFIED:20260415T220152Z
UID:10012699-1777113000-1777118400@bpca.ny.gov
SUMMARY:S.T.E.A.M. DREAM
DESCRIPTION:Kids are invited to pick up S.T.E.A.M. (Science\, Technology\, Engineering\, Arts and Mathematics) at this special open air fair. The event will feature a variety of engaging activities and special guests. \nSpecial Guests: \nAsphalt Green\nBPC Public Library\nBrotherhood- Sisterhood Sol\nChurch Street School of Music and Art\nDown to Earth Market\nDowntown Veterinary Medical Hospitals\nKOKO Inventor’s Lab\nPoet’s House\nRussian School of Math\nSky Scraper\nSolarOne\nStuyPulse\nTrees NY \nFree to attend\, click HERE to rsvp.
URL:https://bpca.ny.gov/event/s-t-e-a-m-dream-3/
LOCATION:Rockefeller Park Basketball Court\, River Terrace & Murray Street\, New York\, NY\, 10280
CATEGORIES:Community,Education,Environment,Kids & Family,Special Event
ATTACH;FMTTYPE=image/png:https://media.bpca.ny.gov/wp-content/uploads/2023/03/28091233/Steam-Dream-Workshop-Banner-22-01-e1680009161751.png
END:VEVENT
END:VCALENDAR