BEGIN:VCALENDAR
VERSION:2.0
PRODID:-//BATTERY PARK CITY AUTHORITY - ECPv6.15.17.1//NONSGML v1.0//EN
CALSCALE:GREGORIAN
METHOD:PUBLISH
X-ORIGINAL-URL:https://bpca.ny.gov
X-WR-CALDESC:Events for BATTERY PARK CITY AUTHORITY
REFRESH-INTERVAL;VALUE=DURATION:PT1H
X-Robots-Tag:noindex
X-PUBLISHED-TTL:PT1H
BEGIN:VTIMEZONE
TZID:America/New_York
BEGIN:DAYLIGHT
TZOFFSETFROM:-0500
TZOFFSETTO:-0400
TZNAME:EDT
DTSTART:20210314T070000
END:DAYLIGHT
BEGIN:STANDARD
TZOFFSETFROM:-0400
TZOFFSETTO:-0500
TZNAME:EST
DTSTART:20211107T060000
END:STANDARD
BEGIN:DAYLIGHT
TZOFFSETFROM:-0500
TZOFFSETTO:-0400
TZNAME:EDT
DTSTART:20220313T070000
END:DAYLIGHT
BEGIN:STANDARD
TZOFFSETFROM:-0400
TZOFFSETTO:-0500
TZNAME:EST
DTSTART:20221106T060000
END:STANDARD
BEGIN:DAYLIGHT
TZOFFSETFROM:-0500
TZOFFSETTO:-0400
TZNAME:EDT
DTSTART:20230312T070000
END:DAYLIGHT
BEGIN:STANDARD
TZOFFSETFROM:-0400
TZOFFSETTO:-0500
TZNAME:EST
DTSTART:20231105T060000
END:STANDARD
END:VTIMEZONE
BEGIN:VEVENT
DTSTART;TZID=America/New_York:20220606T154500
DTEND;TZID=America/New_York:20220606T163000
DTSTAMP:20260422T170329
CREATED:20220407T132208Z
LAST-MODIFIED:20220815T040701Z
UID:10003940-1654530300-1654533000@bpca.ny.gov
SUMMARY:CHILDREN’S BASKETBALL (Ages 6-10)
DESCRIPTION:Develop your coordination and balance\, practice your dribbling\, refine your jump shot\, and play! Practice the basics of basketball with fun and challenging games on adjustable height hoops with drills for all levels. Closed-toe shoes required. No program on 5/30\, 6/20\, 7/4\, 9/5.
URL:https://bpca.ny.gov/event/childrens-basketball-ages-6-10/2022-06-06/
LOCATION:Rockefeller Park Basketball Court\, River Terrace & Murray Street\, New York\, NY\, 10280
CATEGORIES:Classes,Exercise,Games & Sports,Kids,Parks & Rec.
ATTACH;FMTTYPE=image/jpeg:https://media.bpca.ny.gov/uploads/2019/05/basketball-for-kids.jpg
END:VEVENT
BEGIN:VEVENT
DTSTART;TZID=America/New_York:20220606T150000
DTEND;TZID=America/New_York:20220606T153000
DTSTAMP:20260422T170329
CREATED:20220407T131713Z
LAST-MODIFIED:20220815T040519Z
UID:10003924-1654527600-1654529400@bpca.ny.gov
SUMMARY:CHILDREN’S BASKETBALL (Ages 3-5)
DESCRIPTION:Develop your coordination and balance\, practice your dribbling\, refine your jump shot\, and play! Practice the basics of basketball with fun and challenging games on adjustable height hoops with drills for all levels. Closed-toe shoes required. No program on 5/30\, 6/20\, 7/4\, 9/5.
URL:https://bpca.ny.gov/event/childrens-basketball-ages-3-5/2022-06-06/
LOCATION:Rockefeller Park Basketball Court\, River Terrace & Murray Street\, New York\, NY\, 10280
CATEGORIES:Classes,Exercise,Games & Sports,Kids,Parks & Rec.
ATTACH;FMTTYPE=image/jpeg:https://media.bpca.ny.gov/uploads/2019/05/childrens_basketball.jpg
END:VEVENT
BEGIN:VEVENT
DTSTART;TZID=America/New_York:20220523T154500
DTEND;TZID=America/New_York:20220523T163000
DTSTAMP:20260422T170329
CREATED:20220407T132208Z
LAST-MODIFIED:20220815T040701Z
UID:10003939-1653320700-1653323400@bpca.ny.gov
SUMMARY:CHILDREN’S BASKETBALL (Ages 6-10)
DESCRIPTION:Develop your coordination and balance\, practice your dribbling\, refine your jump shot\, and play! Practice the basics of basketball with fun and challenging games on adjustable height hoops with drills for all levels. Closed-toe shoes required. No program on 5/30\, 6/20\, 7/4\, 9/5.
URL:https://bpca.ny.gov/event/childrens-basketball-ages-6-10/2022-05-23/
LOCATION:Rockefeller Park Basketball Court\, River Terrace & Murray Street\, New York\, NY\, 10280
CATEGORIES:Classes,Exercise,Games & Sports,Kids,Parks & Rec.
ATTACH;FMTTYPE=image/jpeg:https://media.bpca.ny.gov/uploads/2019/05/basketball-for-kids.jpg
END:VEVENT
BEGIN:VEVENT
DTSTART;TZID=America/New_York:20220523T150000
DTEND;TZID=America/New_York:20220523T153000
DTSTAMP:20260422T170329
CREATED:20220407T131713Z
LAST-MODIFIED:20220815T040519Z
UID:10003923-1653318000-1653319800@bpca.ny.gov
SUMMARY:CHILDREN’S BASKETBALL (Ages 3-5)
DESCRIPTION:Develop your coordination and balance\, practice your dribbling\, refine your jump shot\, and play! Practice the basics of basketball with fun and challenging games on adjustable height hoops with drills for all levels. Closed-toe shoes required. No program on 5/30\, 6/20\, 7/4\, 9/5.
URL:https://bpca.ny.gov/event/childrens-basketball-ages-3-5/2022-05-23/
LOCATION:Rockefeller Park Basketball Court\, River Terrace & Murray Street\, New York\, NY\, 10280
CATEGORIES:Classes,Exercise,Games & Sports,Kids,Parks & Rec.
ATTACH;FMTTYPE=image/jpeg:https://media.bpca.ny.gov/uploads/2019/05/childrens_basketball.jpg
END:VEVENT
BEGIN:VEVENT
DTSTART;TZID=America/New_York:20220516T154500
DTEND;TZID=America/New_York:20220516T163000
DTSTAMP:20260422T170330
CREATED:20220407T132208Z
LAST-MODIFIED:20220815T040701Z
UID:10003938-1652715900-1652718600@bpca.ny.gov
SUMMARY:CHILDREN’S BASKETBALL (Ages 6-10)
DESCRIPTION:Develop your coordination and balance\, practice your dribbling\, refine your jump shot\, and play! Practice the basics of basketball with fun and challenging games on adjustable height hoops with drills for all levels. Closed-toe shoes required. No program on 5/30\, 6/20\, 7/4\, 9/5.
URL:https://bpca.ny.gov/event/childrens-basketball-ages-6-10/2022-05-16/
LOCATION:Rockefeller Park Basketball Court\, River Terrace & Murray Street\, New York\, NY\, 10280
CATEGORIES:Classes,Exercise,Games & Sports,Kids,Parks & Rec.
ATTACH;FMTTYPE=image/jpeg:https://media.bpca.ny.gov/uploads/2019/05/basketball-for-kids.jpg
END:VEVENT
BEGIN:VEVENT
DTSTART;TZID=America/New_York:20220516T150000
DTEND;TZID=America/New_York:20220516T153000
DTSTAMP:20260422T170330
CREATED:20220407T131713Z
LAST-MODIFIED:20220815T040519Z
UID:10003922-1652713200-1652715000@bpca.ny.gov
SUMMARY:CHILDREN’S BASKETBALL (Ages 3-5)
DESCRIPTION:Develop your coordination and balance\, practice your dribbling\, refine your jump shot\, and play! Practice the basics of basketball with fun and challenging games on adjustable height hoops with drills for all levels. Closed-toe shoes required. No program on 5/30\, 6/20\, 7/4\, 9/5.
URL:https://bpca.ny.gov/event/childrens-basketball-ages-3-5/2022-05-16/
LOCATION:Rockefeller Park Basketball Court\, River Terrace & Murray Street\, New York\, NY\, 10280
CATEGORIES:Classes,Exercise,Games & Sports,Kids,Parks & Rec.
ATTACH;FMTTYPE=image/jpeg:https://media.bpca.ny.gov/uploads/2019/05/childrens_basketball.jpg
END:VEVENT
BEGIN:VEVENT
DTSTART;TZID=America/New_York:20220509T154500
DTEND;TZID=America/New_York:20220509T163000
DTSTAMP:20260422T170330
CREATED:20220407T132208Z
LAST-MODIFIED:20220815T040701Z
UID:10003937-1652111100-1652113800@bpca.ny.gov
SUMMARY:CHILDREN’S BASKETBALL (Ages 6-10)
DESCRIPTION:Develop your coordination and balance\, practice your dribbling\, refine your jump shot\, and play! Practice the basics of basketball with fun and challenging games on adjustable height hoops with drills for all levels. Closed-toe shoes required. No program on 5/30\, 6/20\, 7/4\, 9/5.
URL:https://bpca.ny.gov/event/childrens-basketball-ages-6-10/2022-05-09/
LOCATION:Rockefeller Park Basketball Court\, River Terrace & Murray Street\, New York\, NY\, 10280
CATEGORIES:Classes,Exercise,Games & Sports,Kids,Parks & Rec.
ATTACH;FMTTYPE=image/jpeg:https://media.bpca.ny.gov/uploads/2019/05/basketball-for-kids.jpg
END:VEVENT
BEGIN:VEVENT
DTSTART;TZID=America/New_York:20220509T150000
DTEND;TZID=America/New_York:20220509T153000
DTSTAMP:20260422T170330
CREATED:20220407T131713Z
LAST-MODIFIED:20220815T040519Z
UID:10003921-1652108400-1652110200@bpca.ny.gov
SUMMARY:CHILDREN’S BASKETBALL (Ages 3-5)
DESCRIPTION:Develop your coordination and balance\, practice your dribbling\, refine your jump shot\, and play! Practice the basics of basketball with fun and challenging games on adjustable height hoops with drills for all levels. Closed-toe shoes required. No program on 5/30\, 6/20\, 7/4\, 9/5.
URL:https://bpca.ny.gov/event/childrens-basketball-ages-3-5/2022-05-09/
LOCATION:Rockefeller Park Basketball Court\, River Terrace & Murray Street\, New York\, NY\, 10280
CATEGORIES:Classes,Exercise,Games & Sports,Kids,Parks & Rec.
ATTACH;FMTTYPE=image/jpeg:https://media.bpca.ny.gov/uploads/2019/05/childrens_basketball.jpg
END:VEVENT
BEGIN:VEVENT
DTSTART;TZID=America/New_York:20220502T154500
DTEND;TZID=America/New_York:20220502T163000
DTSTAMP:20260422T170330
CREATED:20220407T132208Z
LAST-MODIFIED:20220815T040701Z
UID:10003936-1651506300-1651509000@bpca.ny.gov
SUMMARY:CHILDREN’S BASKETBALL (Ages 6-10)
DESCRIPTION:Develop your coordination and balance\, practice your dribbling\, refine your jump shot\, and play! Practice the basics of basketball with fun and challenging games on adjustable height hoops with drills for all levels. Closed-toe shoes required. No program on 5/30\, 6/20\, 7/4\, 9/5.
URL:https://bpca.ny.gov/event/childrens-basketball-ages-6-10/2022-05-02/
LOCATION:Rockefeller Park Basketball Court\, River Terrace & Murray Street\, New York\, NY\, 10280
CATEGORIES:Classes,Exercise,Games & Sports,Kids,Parks & Rec.
ATTACH;FMTTYPE=image/jpeg:https://media.bpca.ny.gov/uploads/2019/05/basketball-for-kids.jpg
END:VEVENT
BEGIN:VEVENT
DTSTART;TZID=America/New_York:20220502T150000
DTEND;TZID=America/New_York:20220502T153000
DTSTAMP:20260422T170330
CREATED:20220407T131713Z
LAST-MODIFIED:20220815T040519Z
UID:10003920-1651503600-1651505400@bpca.ny.gov
SUMMARY:CHILDREN’S BASKETBALL (Ages 3-5)
DESCRIPTION:Develop your coordination and balance\, practice your dribbling\, refine your jump shot\, and play! Practice the basics of basketball with fun and challenging games on adjustable height hoops with drills for all levels. Closed-toe shoes required. No program on 5/30\, 6/20\, 7/4\, 9/5.
URL:https://bpca.ny.gov/event/childrens-basketball-ages-3-5/2022-05-02/
LOCATION:Rockefeller Park Basketball Court\, River Terrace & Murray Street\, New York\, NY\, 10280
CATEGORIES:Classes,Exercise,Games & Sports,Kids,Parks & Rec.
ATTACH;FMTTYPE=image/jpeg:https://media.bpca.ny.gov/uploads/2019/05/childrens_basketball.jpg
END:VEVENT
BEGIN:VEVENT
DTSTART;TZID=America/New_York:20220402T110000
DTEND;TZID=America/New_York:20220402T123000
DTSTAMP:20260422T170330
CREATED:20220209T180306Z
LAST-MODIFIED:20220210T195234Z
UID:10003833-1648897200-1648902600@bpca.ny.gov
SUMMARY:SATURDAY FAMILY WORKSHOPS: S.T.E.A.M. DREAM
DESCRIPTION:Kids are invited to pick up S.T.E.A.M (Science\, Technology\, Engineering\, Arts and Mathematics) at this special open air fair featuring quirky activities\, a live performance from Mad Science\, and beats by DJ Susan Z. Anthony. 
URL:https://bpca.ny.gov/event/saturday-family-workshops-s-t-e-a-m-dream-2/
LOCATION:Rockefeller Park Basketball Court\, River Terrace & Murray Street\, New York\, NY\, 10280
CATEGORIES:Community,Education,entertainment,Environment,Kids,Kids & Family,Parks & Rec.,Special Event
ATTACH;FMTTYPE=image/jpeg:https://media.bpca.ny.gov/uploads/2022/02/boy-with-tools-e1644429774779.jpg
END:VEVENT
END:VCALENDAR